BEGIN:VCALENDAR
VERSION:2.0
PRODID:-//Sustainable Frome - ECPv6.15.17.1//NONSGML v1.0//EN
CALSCALE:GREGORIAN
METHOD:PUBLISH
X-ORIGINAL-URL:https://sustainablefrome.org.uk
X-WR-CALDESC:Events for Sustainable Frome
REFRESH-INTERVAL;VALUE=DURATION:PT1H
X-Robots-Tag:noindex
X-PUBLISHED-TTL:PT1H
BEGIN:VTIMEZONE
TZID:UTC
BEGIN:STANDARD
TZOFFSETFROM:+0000
TZOFFSETTO:+0000
TZNAME:UTC
DTSTART:20230101T000000
END:STANDARD
END:VTIMEZONE
BEGIN:VEVENT
DTSTART;TZID=UTC:20241205T190000
DTEND;TZID=UTC:20241205T210000
DTSTAMP:20260423T090851
CREATED:20240920T111313Z
LAST-MODIFIED:20241027T162314Z
UID:2650-1733425200-1733432400@sustainablefrome.org.uk
SUMMARY:Monthly Meeting
DESCRIPTION:Join us at the Good Heart for shared food from 7pm. The meeting will start at 7.30pm \n 
URL:https://sustainablefrome.org.uk/event/monthly-meeting/
LOCATION:The Good Heart\, 7 Palmer Street\, Frome\, BA11 1DS\, United Kingdom
ORGANIZER;CN="Sustainable Frome":MAILTO:info@sustainablefrome.org.uk
END:VEVENT
END:VCALENDAR