BEGIN:VCALENDAR
VERSION:2.0
PRODID:-//Sustainable Frome - ECPv6.15.17.1//NONSGML v1.0//EN
CALSCALE:GREGORIAN
METHOD:PUBLISH
X-WR-CALNAME:Sustainable Frome
X-ORIGINAL-URL:https://sustainablefrome.org.uk
X-WR-CALDESC:Events for Sustainable Frome
REFRESH-INTERVAL;VALUE=DURATION:PT1H
X-Robots-Tag:noindex
X-PUBLISHED-TTL:PT1H
BEGIN:VTIMEZONE
TZID:UTC
BEGIN:STANDARD
TZOFFSETFROM:+0000
TZOFFSETTO:+0000
TZNAME:UTC
DTSTART:20240101T000000
END:STANDARD
END:VTIMEZONE
BEGIN:VEVENT
DTSTART;TZID=UTC:20250113T200000
DTEND;TZID=UTC:20250113T210000
DTSTAMP:20260422T215509
CREATED:20250109T125714Z
LAST-MODIFIED:20250109T125714Z
UID:2706-1736798400-1736802000@sustainablefrome.org.uk
SUMMARY:FromeFM
DESCRIPTION:On Monday 13th January at 8pm the Frome.FM Sustainable Frome show has \n\nPeople for Packsaddle talking about the latest developments in their campaign to protect the community space and\nFrome Town Council Resilience Officer Jo Morris talks about the Healthy Homes project and the free advice they offer on keeping your home warm whether you are a homeowner or a renter\n\nPlus some positive news and some winter music. \nMonday at 8pm\, and then anytime on MixCloud
URL:https://sustainablefrome.org.uk/event/fromefm/
LOCATION:frome.fm
CATEGORIES:radio
ORGANIZER;CN="Sustainable Frome":MAILTO:info@sustainablefrome.org.uk
END:VEVENT
END:VCALENDAR