BEGIN:VCALENDAR
VERSION:2.0
PRODID:-//Sustainable Frome - ECPv6.15.17.1//NONSGML v1.0//EN
CALSCALE:GREGORIAN
METHOD:PUBLISH
X-ORIGINAL-URL:https://sustainablefrome.org.uk
X-WR-CALDESC:Events for Sustainable Frome
REFRESH-INTERVAL;VALUE=DURATION:PT1H
X-Robots-Tag:noindex
X-PUBLISHED-TTL:PT1H
BEGIN:VTIMEZONE
TZID:UTC
BEGIN:STANDARD
TZOFFSETFROM:+0000
TZOFFSETTO:+0000
TZNAME:UTC
DTSTART:20240101T000000
END:STANDARD
END:VTIMEZONE
BEGIN:VEVENT
DTSTART;TZID=UTC:20251002T190000
DTEND;TZID=UTC:20251002T210000
DTSTAMP:20260419T213736
CREATED:20250503T082324Z
LAST-MODIFIED:20250918T142300Z
UID:2716-1759431600-1759438800@sustainablefrome.org.uk
SUMMARY:Film: The Flight of the Swans with Q&A
DESCRIPTION:‘Adventures of a human swan – turning the impossible into the UNSTOPPABLE’. Join Arctic flight adventurer Sacha Dench – ‘the Human Swan’ – on an astonishing journey. \nSacha paramotored over arctic tundra from Russia to the UK\, following the Bewick’s swans along their migration flight path\, crossing 11 countries to discover why their numbers were in decline and having remarkable encounters with people along the way. This story is one of astonishing bravery and marvellous adventure. It is a story of hope for our planet that will touch even hardened hearts. \nSacha is a conservationist\, biologist\, environmental artist\, storyteller\, ex freediving champion\, Britannia Trophy award winner\, Guinness world record holder and UN ambassador to the Convention on migratory birds. She is the founder and CEO of ‘Conservation Without Borders’ with supporters Sir David Attenborough and patrons Sir Ranulph Fiennes and Dame Judi Dench. \nSacha’s film ‘Flight of the Swans’ will be screened followed by a Q&A with her. \nThis event is a fundraiser for Conservation Without Borders\, Sustainable Frome\, and the Merlin Theatre. \nIf you are not able to attend the event but you would like to donate to our fundraiser please click here:\nhttps://www.justgiving.com/crowdfunding/cwb-sf \nRated: PG\nRunning time: Film 52 minutes\, with interval followed by Q&A 45 minutes\nTickets: £7.50  Book Now! https://www.ticketsource.co.uk/merlin-theatre-trust-ltd/the-human-swan/e-dyaypl \nSACHA DENCH: THE HUMAN SWAN
URL:https://sustainablefrome.org.uk/event/film-the-flight-of-the-swans-with-qa/
LOCATION:Merlin Theatre\, Bath Road\, Frome\, BA11 2HG\, United Kingdom
CATEGORIES:Featured,Next meeting
ATTACH;FMTTYPE=image/jpeg:https://sustainablefrome.org.uk/wp-content/uploads/2025/05/flight-of-swans.jpg
ORGANIZER;CN="Sustainable Frome":MAILTO:info@sustainablefrome.org.uk
END:VEVENT
END:VCALENDAR