BEGIN:VCALENDAR
VERSION:2.0
PRODID:-//Sustainable Frome - ECPv6.15.17.1//NONSGML v1.0//EN
CALSCALE:GREGORIAN
METHOD:PUBLISH
X-ORIGINAL-URL:https://sustainablefrome.org.uk
X-WR-CALDESC:Events for Sustainable Frome
REFRESH-INTERVAL;VALUE=DURATION:PT1H
X-Robots-Tag:noindex
X-PUBLISHED-TTL:PT1H
BEGIN:VTIMEZONE
TZID:UTC
BEGIN:STANDARD
TZOFFSETFROM:+0000
TZOFFSETTO:+0000
TZNAME:UTC
DTSTART:20240101T000000
END:STANDARD
END:VTIMEZONE
BEGIN:VEVENT
DTSTART;TZID=UTC:20251124T200000
DTEND;TZID=UTC:20251124T210000
DTSTAMP:20260419T161936
CREATED:20250918T144820Z
LAST-MODIFIED:20250918T150130Z
UID:2735-1764014400-1764018000@sustainablefrome.org.uk
SUMMARY:FromeFM: River Being
DESCRIPTION:On our monthly radio show on Frome.FM\, we will be featuring a series of podcasts about rivers. Seen through the lens of the River Tone that flows through Taunton\, each podcast episode is a riverside conversation with someone who has a specific personal or professional relationship to water and the river\, building a broad base of knowledge from many distinctive perspectives. \nRiver Being\nThe final episode delves into our human relationship to waters and river. If rivers are indeed alive\, can they be seen as persons\, or are they sacred beings? How might we belong to a river? \nListen to previous episodes here:\nhttps://www.frome.fm/programmes/sustainable-frome \nFor more details visit tonal-uk.com \n 
URL:https://sustainablefrome.org.uk/event/fromefm-river-being/
LOCATION:frome.fm
CATEGORIES:radio
ATTACH;FMTTYPE=image/jpeg:https://sustainablefrome.org.uk/wp-content/uploads/2025/09/being.jpg
ORGANIZER;CN="Sustainable Frome":MAILTO:info@sustainablefrome.org.uk
END:VEVENT
END:VCALENDAR