BEGIN:VCALENDAR
VERSION:2.0
PRODID:-//Sustainable Frome - ECPv6.15.17.1//NONSGML v1.0//EN
CALSCALE:GREGORIAN
METHOD:PUBLISH
X-WR-CALNAME:Sustainable Frome
X-ORIGINAL-URL:https://sustainablefrome.org.uk
X-WR-CALDESC:Events for Sustainable Frome
REFRESH-INTERVAL;VALUE=DURATION:PT1H
X-Robots-Tag:noindex
X-PUBLISHED-TTL:PT1H
BEGIN:VTIMEZONE
TZID:UTC
BEGIN:STANDARD
TZOFFSETFROM:+0000
TZOFFSETTO:+0000
TZNAME:UTC
DTSTART:20180101T000000
END:STANDARD
END:VTIMEZONE
BEGIN:VEVENT
DTSTART;TZID=UTC:20230202T190000
DTEND;TZID=UTC:20230202T210000
DTSTAMP:20260419T223132
CREATED:20230129T120929Z
LAST-MODIFIED:20230129T120929Z
UID:2403-1675364400-1675371600@sustainablefrome.org.uk
SUMMARY:Sustainable Frome February meeting: The Neighbourhood Network and Transition Streets
DESCRIPTION:With Jenny Shackleford\, Hannah Stopford and Annabelle MacFadyen from the Frome Neighbourhood Network \nThe Frome Neighbourhood Network has existed for some time\, helping to build connected\, caring and resilient communities at the street and neighbourhood level. They are now planning to launch a Transition Streets project across Frome which will have a slightly different emphasis: caring\, sharing\, reducing carbon footprints and helping with the cost of living. \nJoin us at the Good Heart for shared food from 7pm. The meeting will start at 7.30pm
URL:https://sustainablefrome.org.uk/event/sustainable-frome-february-meeting-the-neighbourhood-network-and-transition-streets/
LOCATION:The Good Heart\, 7 Palmer Street\, Frome\, BA11 1DS\, United Kingdom
CATEGORIES:Next meeting
ORGANIZER;CN="Sustainable Frome":MAILTO:info@sustainablefrome.org.uk
END:VEVENT
BEGIN:VEVENT
DTSTART;TZID=UTC:20230105T190000
DTEND;TZID=UTC:20230105T210000
DTSTAMP:20260419T223132
CREATED:20230101T190054Z
LAST-MODIFIED:20230102T111555Z
UID:2380-1672945200-1672952400@sustainablefrome.org.uk
SUMMARY:Sustainable Frome January meeting: Film Show: Joanna Macy and the Great Turning
DESCRIPTION:At a time when everything we love seems to be at risk\, Joanna Macy offers a kind of road map for this unique moment in human history when we must come alive to our truest power\, to “look straight into the face of our time\,” and to participate in the ‘Great Turning’\, a shift from the industrial growth society to a life-sustaining one. It is\, she believes\, the third major revolution of human times\, after the agricultural and industrial revolutions. This one\, though\, has to unfold much more quickly. The good news is that it is\, all around the world. “We are beginning to wake up\, as from a millennia-long sleep\, to a whole new relationship to our world\, to ourselves and each other.” \nThe film will start at around 7.30pm. Join us at the Good Heart for shared food and notices from 7pm
URL:https://sustainablefrome.org.uk/event/sustainable-frome-jan-2023/
LOCATION:The Good Heart\, 7 Palmer Street\, Frome\, BA11 1DS\, United Kingdom
CATEGORIES:Next meeting
ORGANIZER;CN="Sustainable Frome":MAILTO:info@sustainablefrome.org.uk
END:VEVENT
BEGIN:VEVENT
DTSTART;TZID=UTC:20221006T190000
DTEND;TZID=UTC:20221006T210000
DTSTAMP:20260419T223132
CREATED:20220913T131553Z
LAST-MODIFIED:20221005T101446Z
UID:2356-1665082800-1665090000@sustainablefrome.org.uk
SUMMARY:Sustainable Frome October meeting: Home Energy
DESCRIPTION:Jo Morris\, Resilience Officer at Frome Town Council\, will be here to explain how to get financial help with improving your home’s energy efficiency\, outlining the various loans and grants available for insulation\, solar panels\, heat pumps\, etc. \nJoin us at the Good Heart for shared food from 7pm and the meeting proper from 7.30pm \n 
URL:https://sustainablefrome.org.uk/event/sustainable-frome-october-meeting-organising-meeting/
LOCATION:The Good Heart\, 7 Palmer Street\, Frome\, BA11 1DS\, United Kingdom
CATEGORIES:Next meeting
ORGANIZER;CN="Sustainable Frome":MAILTO:info@sustainablefrome.org.uk
END:VEVENT
BEGIN:VEVENT
DTSTART;TZID=UTC:20220901T190000
DTEND;TZID=UTC:20220901T210000
DTSTAMP:20260419T223132
CREATED:20220901T121623Z
LAST-MODIFIED:20220901T121623Z
UID:2342-1662058800-1662066000@sustainablefrome.org.uk
SUMMARY:Sustainable Frome September meeting: Great Big Green Week
DESCRIPTION:We’ll be talking about the up-coming Great Big Green Week\, including the film we’re screening: Motherload. \nJoin us for shared food from 7pm and the meeting proper from 7.30pm\, at the newly-refurbished Good Heart. \n 
URL:https://sustainablefrome.org.uk/event/sustainable-frome-september-meeting-great-big-green-week/
LOCATION:The Good Heart\, 7 Palmer Street\, Frome\, BA11 1DS\, United Kingdom
CATEGORIES:Next meeting
ORGANIZER;CN="Sustainable Frome":MAILTO:info@sustainablefrome.org.uk
END:VEVENT
BEGIN:VEVENT
DTSTART;TZID=UTC:20220804T190000
DTEND;TZID=UTC:20220804T210000
DTSTAMP:20260419T223132
CREATED:20220802T152943Z
LAST-MODIFIED:20220802T153013Z
UID:2326-1659639600-1659646800@sustainablefrome.org.uk
SUMMARY:Sustainable Frome August meeting: Summer Gathering
DESCRIPTION:Picnic at Weylands\nShare some food and chat. \nHead along to Weylands\, near the recently-planted trees. Bring some picnic food to share\, and some water for the trees! \nFrom 7pm. \n 
URL:https://sustainablefrome.org.uk/event/sustainable-frome-august-meeting-summer-gathering/
CATEGORIES:Next meeting
ORGANIZER;CN="Sustainable Frome":MAILTO:info@sustainablefrome.org.uk
END:VEVENT
BEGIN:VEVENT
DTSTART;TZID=UTC:20220707T190000
DTEND;TZID=UTC:20220707T210000
DTSTAMP:20260419T223132
CREATED:20220706T164203Z
LAST-MODIFIED:20220706T164203Z
UID:2322-1657220400-1657227600@sustainablefrome.org.uk
SUMMARY:Sustainable Frome July meeting
DESCRIPTION:Social and planning:\nCatch up with everyone over some shared food and help plan the next few months. \nThe meeting will start at 7.30pm\, but come early to share food and chat: bring something veggie/vegan to share from 7pm.
URL:https://sustainablefrome.org.uk/event/sustainable-frome-july-meeting-2/
LOCATION:The Good Heart\, 7 Palmer Street\, Frome\, BA11 1DS\, United Kingdom
CATEGORIES:Next meeting
ORGANIZER;CN="Sustainable Frome":MAILTO:info@sustainablefrome.org.uk
END:VEVENT
BEGIN:VEVENT
DTSTART;TZID=UTC:20220505T190000
DTEND;TZID=UTC:20220505T210000
DTSTAMP:20260419T223132
CREATED:20220427T083702Z
LAST-MODIFIED:20220502T170619Z
UID:2294-1651777200-1651784400@sustainablefrome.org.uk
SUMMARY:Sustainable Frome May meeting: The Inner Development Goals plus AGM
DESCRIPTION:The Inner Development Goals\, with Jez Lefevre\nThe United Nations’ Sustainable Development Goals are the blueprint to achieve a better and more sustainable future for all. They address the global challenges we face\, including poverty\, inequality\, climate change\, environmental degradation\, peace and justice. The Inner Development Goals address what abilities\, skills and qualities people and organisations need to push these goals forward. \nThe meeting will also incorporate an AGM with a brief statement of our finances\, directors\,  review of our role and achievements\, etc. This is open to everyone\, especially if you would like to get more involved with helping to sustain Sustainable Frome. \nCome early to share food and chat: bring something veggie/vegan to share from 7pm. The meeting proper will start at 7.30pm
URL:https://sustainablefrome.org.uk/event/sustainable-frome-may-meeting-tbc/
LOCATION:The Good Heart\, 7 Palmer Street\, Frome\, BA11 1DS\, United Kingdom
CATEGORIES:Next meeting
ORGANIZER;CN="Sustainable Frome":MAILTO:info@sustainablefrome.org.uk
END:VEVENT
BEGIN:VEVENT
DTSTART;TZID=UTC:20220203T193000
DTEND;TZID=UTC:20220203T193000
DTSTAMP:20260419T223132
CREATED:20220130T164856Z
LAST-MODIFIED:20220130T164856Z
UID:2244-1643916600-1643916600@sustainablefrome.org.uk
SUMMARY:Sustainable Frome Febuary meeting
DESCRIPTION:This will be another ‘Room-n-Zoom’ meeting. Either join in person at the Good Heart Cafe or online using the Zoom link in the recent newsletter. \nNo particular subject – we meet every month\, sometimes with a theme or presentation\, sometimes not!
URL:https://sustainablefrome.org.uk/event/sustainable-frome-febuary-meeting/
LOCATION:The Good Heart\, 7 Palmer Street\, Frome\, BA11 1DS\, United Kingdom
CATEGORIES:Next meeting
ORGANIZER;CN="Sustainable Frome":MAILTO:info@sustainablefrome.org.uk
END:VEVENT
BEGIN:VEVENT
DTSTART;TZID=UTC:20210902T193000
DTEND;TZID=UTC:20210902T210000
DTSTAMP:20260419T223132
CREATED:20210826T200210Z
LAST-MODIFIED:20210826T200836Z
UID:2132-1630611000-1630616400@sustainablefrome.org.uk
SUMMARY:Sustainable Frome September Meeting: Great Big Green Week
DESCRIPTION:We’ll be looking forward to Frome’s Great Big Green Week later in the month\, and looking at ways to get involved. \nThe meeting will be held on Zoom — link in the newsletter as usual.
URL:https://sustainablefrome.org.uk/event/sustainable-frome-sept2021-meeting/
LOCATION:Online
CATEGORIES:Next meeting
ORGANIZER;CN="Sustainable Frome":MAILTO:info@sustainablefrome.org.uk
END:VEVENT
BEGIN:VEVENT
DTSTART;TZID=UTC:20210701T193000
DTEND;TZID=UTC:20210701T210000
DTSTAMP:20260419T223132
CREATED:20210617T154922Z
LAST-MODIFIED:20210628T155033Z
UID:2097-1625167800-1625173200@sustainablefrome.org.uk
SUMMARY:Sustainable Frome July Meeting
DESCRIPTION:We are planning a Big Green Week in October\, date to be finalised soon. \nWe would like as many other green and related groups as possible to be included. \nThere will be an exhibition/event where you can have a stall\, meet people\, promote your organisation. If you have any other ideas for events/activities that could take place in the week\, you will benefit from our support and the publicity for the whole event. \nThe final dates depend on when a couple of big names can make it! The Climate Coalition is having a Big Green Week\, 18th – 26th Sept. Ours will be later and closer to COhttps://ukcop26.org/P26\, the big UN climate change conference in Glasgow at the beginning of November.
URL:https://sustainablefrome.org.uk/event/sustainable-frome-july-meeting/
LOCATION:Online
CATEGORIES:Next meeting
ORGANIZER;CN="Sustainable Frome":MAILTO:info@sustainablefrome.org.uk
END:VEVENT
BEGIN:VEVENT
DTSTART;TZID=UTC:20210204T193000
DTEND;TZID=UTC:20210204T210000
DTSTAMP:20260419T223132
CREATED:20210125T101359Z
LAST-MODIFIED:20210204T144857Z
UID:1611-1612467000-1612472400@sustainablefrome.org.uk
SUMMARY:Sustainable Frome February Meeting: Wellbeing that is Sustainable
DESCRIPTION:There is so much information out there about what you need to do to stay well\, what you should eat\, how much you should exercise\, and so on.  But how about if we stopped listening to all those external instructions that confuse and bewilder us\, and in any case\, are probably not right for us as individuals\, and took a moment to ask our body itself what it actually needs?  Our mind and our body are often at odds.  The mind is more social\, wanting us to feel we fit in and are the same as those around us.  The body\, on the other hand\, is only concerned with itself and its needs\, and is a better reference point if we want to know what we really need at each moment. \n\nIn this short session on Wellbeing Terésa Hadland\, a local bodywork and movement therapist who is also a member of Wellbeing Frome\, will talk about the untapped intelligence of the body and lead you through a short exercise.  Be prepared for some surprises!
URL:https://sustainablefrome.org.uk/event/sustainable-frome-february-meeting-wellbeing-that-is-sustainable/
LOCATION:Online
CATEGORIES:Next meeting
ORGANIZER;CN="Sustainable Frome":MAILTO:info@sustainablefrome.org.uk
END:VEVENT
BEGIN:VEVENT
DTSTART;TZID=UTC:20190905T190000
DTEND;TZID=UTC:20190905T210000
DTSTAMP:20260419T223132
CREATED:20190902T101949Z
LAST-MODIFIED:20190902T101949Z
UID:1142-1567710000-1567717200@sustainablefrome.org.uk
SUMMARY:Sustainable Frome monthly meeting
DESCRIPTION:What with summer and all this meeting is now going to be mainly a social get together and a chance to regroup and plan the year ahead. We will also be assessing Frome’s progress towards Zero Carbon.
URL:https://sustainablefrome.org.uk/event/sustainable-frome-monthly-meeting-3/
LOCATION:The Good Heart\, 7 Palmer Street\, Frome\, BA11 1DS\, United Kingdom
CATEGORIES:Next meeting
ORGANIZER;CN="Sustainable Frome":MAILTO:info@sustainablefrome.org.uk
END:VEVENT
END:VCALENDAR