BEGIN:VCALENDAR
VERSION:2.0
PRODID:-//Sustainable Frome - ECPv6.15.17.1//NONSGML v1.0//EN
CALSCALE:GREGORIAN
METHOD:PUBLISH
X-WR-CALNAME:Sustainable Frome
X-ORIGINAL-URL:https://sustainablefrome.org.uk
X-WR-CALDESC:Events for Sustainable Frome
REFRESH-INTERVAL;VALUE=DURATION:PT1H
X-Robots-Tag:noindex
X-PUBLISHED-TTL:PT1H
BEGIN:VTIMEZONE
TZID:UTC
BEGIN:STANDARD
TZOFFSETFROM:+0000
TZOFFSETTO:+0000
TZNAME:UTC
DTSTART:20180101T000000
END:STANDARD
END:VTIMEZONE
BEGIN:VEVENT
DTSTART;TZID=UTC:20200303T170000
DTEND;TZID=UTC:20200303T183000
DTSTAMP:20260422T001307
CREATED:20190509T093653Z
LAST-MODIFIED:20200211T092102Z
UID:1006-1583254800-1583260200@sustainablefrome.org.uk
SUMMARY:Extinction Cafe
DESCRIPTION:Every Tuesday 5pm – 6.30pm\, Good Heart Cafe. \nThe café is a place where we gather with our shared concerns and deeper feelings about the ecological crisis\, species extinction and climate change. It can be a place for people new to XR to get to know others in a smaller group setting. Everyone is welcome. Join us for a cup of tea and open conversations. There is no charge but we invite donations to cover expenses. Watch our film about the cafe
URL:https://sustainablefrome.org.uk/event/extinction-cafe-6/
LOCATION:The Good Heart\, 7 Palmer Street\, Frome\, BA11 1DS\, United Kingdom
ORGANIZER;CN="Extinction Rebellion Frome":MAILTO:extinctionrebellionfrome@gmail.com
END:VEVENT
BEGIN:VEVENT
DTSTART;TZID=UTC:20200227T193000
DTEND;TZID=UTC:20200227T210000
DTSTAMP:20260422T001307
CREATED:20200213T120258Z
LAST-MODIFIED:20200213T120258Z
UID:1209-1582831800-1582837200@sustainablefrome.org.uk
SUMMARY:Workshop: Roots of a Regenerative Culture
DESCRIPTION:This workshop demystifies how to make everything we do regenerative\, helping us to build resilience both within ourselves and in the circles we interact with. By understanding Nature’s pattern language of regeneration\, we can apply that understanding to inform us when creating regenerative cultures within Extinction Rebellion\, our lives\, our workplaces and our communities.\n\nContact Annabelle for more information annabellemacfadyen@gmail.com and to reserve a place.\n\nThere is no charge for the workshop but donations towards XR Frome will be welcomed.
URL:https://sustainablefrome.org.uk/event/workshop-roots-of-a-regenerative-culture/
LOCATION:Rye Bakery\, Whittox Lane\, Frome\, BA11 3BY
ORGANIZER;CN="Extinction Rebellion Frome":MAILTO:extinctionrebellionfrome@gmail.com
END:VEVENT
BEGIN:VEVENT
DTSTART;TZID=UTC:20200225T170000
DTEND;TZID=UTC:20200225T183000
DTSTAMP:20260422T001307
CREATED:20190331T164211Z
LAST-MODIFIED:20200211T092051Z
UID:980-1582650000-1582655400@sustainablefrome.org.uk
SUMMARY:Extinction Cafe
DESCRIPTION:Every Tuesday 5pm – 6.30pm\, Good Heart Cafe. \nThe café is a place where we gather with our shared concerns and deeper feelings about the ecological crisis\, species extinction and climate change. It can be a place for people new to XR to get to know others in a smaller group setting. Everyone is welcome. Join us for a cup of tea and open conversations. There is no charge but we invite donations to cover expenses. Watch our film about the cafe
URL:https://sustainablefrome.org.uk/event/extinction-cafe-5/
LOCATION:The Good Heart\, 7 Palmer Street\, Frome\, BA11 1DS\, United Kingdom
ORGANIZER;CN="Extinction Rebellion Frome":MAILTO:extinctionrebellionfrome@gmail.com
END:VEVENT
BEGIN:VEVENT
DTSTART;TZID=UTC:20200225T093000
DTEND;TZID=UTC:20200225T163000
DTSTAMP:20260422T001307
CREATED:20200211T095434Z
LAST-MODIFIED:20200211T095434Z
UID:1204-1582623000-1582648200@sustainablefrome.org.uk
SUMMARY:Free Energy Training
DESCRIPTION:Tue 25th Feb. 9.30 – 4.30. Town Hall. Free Energy Training\nThe training will cover domestic energy use\, how to reduce energy bills and how to encourage and enable people to act on energy-related advice. It is for anyone who wants to support people in their local community to reduce their energy bills and carbon emissions. Refreshments and vegetarian lunch will be provided. \nTickets are free but please book as places are limited \nMore information and tickets here
URL:https://sustainablefrome.org.uk/event/free-energy-training/
LOCATION:Town Hall\, Christchurch Street West\, Frome\, BA11 1EB
END:VEVENT
BEGIN:VEVENT
DTSTART;TZID=UTC:20200223T150000
DTEND;TZID=UTC:20200223T170000
DTSTAMP:20260422T001307
CREATED:20191115T123156Z
LAST-MODIFIED:20191115T123156Z
UID:1177-1582470000-1582477200@sustainablefrome.org.uk
SUMMARY:SHARE Repair and Upcycle Cafe
DESCRIPTION:SHARE’s team of volunteers share their skills mending items including electronics\, textiles & clothing\, bikes\, small furniture\, crockery & toys. Upcycling activities and demos at each event.
URL:https://sustainablefrome.org.uk/event/share-repair-and-upcycle-cafe/
LOCATION:Welsh Mill Hub\, Park Hill Drive\, Frome\, BA11 2LE
END:VEVENT
BEGIN:VEVENT
DTSTART;TZID=UTC:20200223T100000
DTEND;TZID=UTC:20200223T140000
DTSTAMP:20260422T001307
CREATED:20190118T125514Z
LAST-MODIFIED:20200211T094928Z
UID:847-1582452000-1582466400@sustainablefrome.org.uk
SUMMARY:Potato Day and Seed Swap
DESCRIPTION:“it’s more than just spuds” \nFind everything for your gardening needs this spring with Incredible stalls\, Community Seed Swap\, Local Groups\, Nature Charities\, Kids Activities and Inspiring Speakers! \n£2+ entry / kids free \nMore info\, including seed swap instructions here
URL:https://sustainablefrome.org.uk/event/potato-day-and-seed-swap/
LOCATION:Cheese and Grain\, Market Yard\, Frome\, BA11 1BE
END:VEVENT
BEGIN:VEVENT
DTSTART;TZID=UTC:20200219T100000
DTEND;TZID=UTC:20200219T140000
DTSTAMP:20260422T001307
CREATED:20200213T121655Z
LAST-MODIFIED:20200213T121655Z
UID:1213-1582106400-1582120800@sustainablefrome.org.uk
SUMMARY:Community tree planting @ Weylands
DESCRIPTION:To get Frome’s Wild About Trees project off to a great start Frome Town Council are hosting two community planting days this February half-term with the specific aim of fighting climate change. \nOver the two sessions the plan is to plant over 1\,300 native UK tree and shrub species including common oak\, rowan\, wild cherry\, beech\, silver birch as well as shrubs such as hawthorn and guelder rose. \nThis second session is to plant 800 whips at Weylands \nThe event is free but please reserve your place on the Frome Town Council website.
URL:https://sustainablefrome.org.uk/event/community-tree-planting-weylands/
END:VEVENT
BEGIN:VEVENT
DTSTART;TZID=UTC:20200218T170000
DTEND;TZID=UTC:20200218T183000
DTSTAMP:20260422T001307
CREATED:20190106T131718Z
LAST-MODIFIED:20200211T092040Z
UID:812-1582045200-1582050600@sustainablefrome.org.uk
SUMMARY:Extinction Cafe
DESCRIPTION:Every Tuesday 5pm – 6.30pm\, Good Heart Cafe. \nThe café is a place where we gather with our shared concerns and deeper feelings about the ecological crisis\, species extinction and climate change. It can be a place for people new to XR to get to know others in a smaller group setting. Everyone is welcome. Join us for a cup of tea and open conversations. There is no charge but we invite donations to cover expenses. Watch our film about the cafe
URL:https://sustainablefrome.org.uk/event/extinction-cafe-2/
LOCATION:The Good Heart\, 7 Palmer Street\, Frome\, BA11 1DS\, United Kingdom
ORGANIZER;CN="Extinction Rebellion Frome":MAILTO:extinctionrebellionfrome@gmail.com
END:VEVENT
BEGIN:VEVENT
DTSTART;TZID=UTC:20200218T100000
DTEND;TZID=UTC:20200218T140000
DTSTAMP:20260422T001307
CREATED:20200213T121421Z
LAST-MODIFIED:20200213T121721Z
UID:1211-1582020000-1582034400@sustainablefrome.org.uk
SUMMARY:Community tree planting @ Birchill Lane
DESCRIPTION:To get Frome’s Wild About Trees project off to a great start Frome Town Council are hosting two community planting days this February half-term with the specific aim of fighting climate change. \nOver the two sessions the plan is to plant over 1\,300 native UK tree and shrub species including common oak\, rowan\, wild cherry\, beech\, silver birch as well as shrubs such as hawthorn and guelder rose. \nThis first session is to plant 500 whips at Birchill Lane \nThe event is free but please reserve your place on the Frome Town Council website.
URL:https://sustainablefrome.org.uk/event/tree-planting-birchill-lane/
END:VEVENT
BEGIN:VEVENT
DTSTART;TZID=UTC:20200211T170000
DTEND;TZID=UTC:20200211T183000
DTSTAMP:20260422T001307
CREATED:20190106T131430Z
LAST-MODIFIED:20200211T092020Z
UID:809-1581440400-1581445800@sustainablefrome.org.uk
SUMMARY:Extinction Cafe
DESCRIPTION:Every Tuesday 5pm – 6.30pm\, Good Heart Cafe. \nThe café is a place where we gather with our shared concerns and deeper feelings about the ecological crisis\, species extinction and climate change. It can be a place for people new to XR to get to know others in a smaller group setting. Everyone is welcome. Join us for a cup of tea and open conversations. There is no charge but we invite donations to cover expenses. Watch our film about the cafe
URL:https://sustainablefrome.org.uk/event/extinction-cafe/
LOCATION:The Good Heart\, 7 Palmer Street\, Frome\, BA11 1DS\, United Kingdom
ORGANIZER;CN="Extinction Rebellion Frome":MAILTO:extinctionrebellionfrome@gmail.com
END:VEVENT
BEGIN:VEVENT
DTSTART;TZID=UTC:20200206T190000
DTEND;TZID=UTC:20200206T210000
DTSTAMP:20260422T001307
CREATED:20191230T163452Z
LAST-MODIFIED:20200203T175623Z
UID:1190-1581015600-1581022800@sustainablefrome.org.uk
SUMMARY:Sustainable Frome monthly meeting for February: Talking to Family and Friends about Climate Change
DESCRIPTION:This month’s Sustainable Frome Meeting will be at the TOWN HALL. Together with Frome Town Council we present a free workshop entitled ‘Talking to Friends and Family in a Climate Emergency and Making Personal Action More Effective’. \nNikki Jones\, independent writer and researcher on energy\, will be leading the workshop. \nWhat do you say to colleagues and friends who continue to fly long-distance? How do you deal with close family who ‘just don’t get’ the climate emergency? How should we speak to children on the subject to ensure they don’t suffer from climate angst and feel empowered to take action?’  More details on the FTC website. \nThe workshop is free but donations to Avon Needs Trees are requested. \nPlease book your free place in advance as spaces are limited
URL:https://sustainablefrome.org.uk/event/sustainable-frome-monthly-meeting-for-february-talking-to-family-and-friends-about-climate-change/
LOCATION:Town Hall\, Christchurch Street West\, Frome\, BA11 1EB
ORGANIZER;CN="Sustainable Frome":MAILTO:info@sustainablefrome.org.uk
END:VEVENT
BEGIN:VEVENT
DTSTART;TZID=UTC:20200129T190000
DTEND;TZID=UTC:20200129T210000
DTSTAMP:20260422T001307
CREATED:20200108T150143Z
LAST-MODIFIED:20200108T150143Z
UID:1195-1580324400-1580331600@sustainablefrome.org.uk
SUMMARY:Free Film screening: The Game Changers
DESCRIPTION:Frome Town Council and Sustainable Frome are screening The Game Changers at the Town Hall. A treat for Veganuary\, the film explores the arguments and science around plant-based eating and the health benefits that come with it. \nEveryone is welcome to attend this free screening of The Game Changers but please book your free ticket to ensure a seat at the screening. The bar will be open.
URL:https://sustainablefrome.org.uk/event/free-film-screening-the-game-changers/
LOCATION:Town Hall\, Christchurch Street West\, Frome\, BA11 1EB
END:VEVENT
BEGIN:VEVENT
DTSTART;TZID=UTC:20200118T100000
DTEND;TZID=UTC:20200118T120000
DTSTAMP:20260422T001307
CREATED:20191115T122833Z
LAST-MODIFIED:20191115T122833Z
UID:1175-1579341600-1579348800@sustainablefrome.org.uk
SUMMARY:SHARE Gift exchange at the Town Hall
DESCRIPTION:Take stock of your stuff! Bring along and swap good quality unwanted gifts for reuse or resale.
URL:https://sustainablefrome.org.uk/event/share-gift-exchange-at-the-town-hall/
LOCATION:Town Hall\, Christchurch Street West\, Frome\, BA11 1EB
END:VEVENT
BEGIN:VEVENT
DTSTART;TZID=UTC:20200102T190000
DTEND;TZID=UTC:20200102T210000
DTSTAMP:20260422T001307
CREATED:20191230T162437Z
LAST-MODIFIED:20191230T163024Z
UID:1185-1577991600-1577998800@sustainablefrome.org.uk
SUMMARY:Sustainable Frome monthly meeting for January -- Film: Numen
DESCRIPTION:This month we’re showing a film:\nNUMEN\nThe Healing Power of Plants \nNumen\, defined as the animating force in nature\, is a 75 minute documentary focusing on the healing power of plants and the natural world. \nIt offers an introduction to the following topics: \nWhole Plant Medicine\nEcological Medicine\nEnvironmental toxins\nThe limits of allopathic medicine\nSpirit and healing and more \nReviewers have called it:\nAesthetically stunning\, engrossing\, informative\, inspiring\, thought provoking. \nJoin us for shared food from 7pm — please bring something veggie / vegan. This will be followed by notices\, and we’ll aim to start the film around 7.40pm
URL:https://sustainablefrome.org.uk/event/sustainable-frome-monthly-meeting-for-january-film-numen/
LOCATION:The Good Heart\, 7 Palmer Street\, Frome\, BA11 1DS\, United Kingdom
ORGANIZER;CN="Sustainable Frome":MAILTO:info@sustainablefrome.org.uk
END:VEVENT
BEGIN:VEVENT
DTSTART;TZID=UTC:20191207T090000
DTEND;TZID=UTC:20191207T140000
DTSTAMP:20260422T001307
CREATED:20190128T115120Z
LAST-MODIFIED:20190128T115120Z
UID:862-1575709200-1575727200@sustainablefrome.org.uk
SUMMARY:Vegan Market
DESCRIPTION:Now bi-monthly!\nStalls featuring vegan food\, drinks\, clothing\, homewares\, advice and information.\nFREE ADMISSION\n2019 dates: 2 Feb\, 6 Apr\, 1 Jun\, 3 Aug\, 5 Oct\, 7 Dec
URL:https://sustainablefrome.org.uk/event/vegan-market-6/
LOCATION:Cheese and Grain\, Market Yard\, Frome\, BA11 1BE
END:VEVENT
BEGIN:VEVENT
DTSTART;TZID=UTC:20191205T190000
DTEND;TZID=UTC:20191205T210000
DTSTAMP:20260422T001307
CREATED:20191115T120828Z
LAST-MODIFIED:20191115T121210Z
UID:1169-1575572400-1575579600@sustainablefrome.org.uk
SUMMARY:Rob Hopkins: What If ...
DESCRIPTION:Join author Rob Hopkins as he talks about his new book\, From What Is to What If: Unleashing the Power of Imagination to Create the Future We Want. Hopkins is the founder of the international Transition Towns movement and one of the Independent’s Top 100 environmentalists. \nCome along and learn about what individuals and communities can do to make rapid changes for the better. \nThis event is co-hosted by Frome Town council and Sustainable Frome and replaces the Sustainable Frome monthly meeting for December. It is also supported by Hunting Raven Books who will be selling copies of Rob’s book at the event. \nBook tickets here\, £5 waged / £1 unwaged or low income.
URL:https://sustainablefrome.org.uk/event/rob-hopkins-from-what-is-to-what-if/
LOCATION:Cheese and Grain\, Market Yard\, Frome\, BA11 1BE
ORGANIZER;CN="Sustainable Frome":MAILTO:info@sustainablefrome.org.uk
END:VEVENT
BEGIN:VEVENT
DTSTART;TZID=UTC:20191126T190000
DTEND;TZID=UTC:20191126T210000
DTSTAMP:20260422T001307
CREATED:20191031T150115Z
LAST-MODIFIED:20191031T150115Z
UID:1156-1574794800-1574802000@sustainablefrome.org.uk
SUMMARY:Frome Town Council Climate Emergency Panel: 3. Resources
DESCRIPTION:Frome Town Council is hosting a series of free climate panels in 2019 for people to develop ideas and solutions to enable the town to meet its climate emergency targets. \nThe focus of this third panel is: Resources\, how can we reduce the impact of the things we buy?
URL:https://sustainablefrome.org.uk/event/frome-town-council-climate-emergency-panel-3-resources/
LOCATION:Town Hall\, Christchurch Street West\, Frome\, BA11 1EB
END:VEVENT
BEGIN:VEVENT
DTSTART;TZID=UTC:20191123T100000
DTEND;TZID=UTC:20191123T120000
DTSTAMP:20260422T001307
CREATED:20191115T122546Z
LAST-MODIFIED:20191115T122546Z
UID:1173-1574503200-1574510400@sustainablefrome.org.uk
SUMMARY:SHARE Swap Shop at the Town Hall
DESCRIPTION:Take stock of your stuff! Bring along and swap good quality items for reuse and resale.
URL:https://sustainablefrome.org.uk/event/share-swap-shop-at-the-town-hall/
LOCATION:Town Hall\, Christchurch Street West\, Frome\, BA11 1EB
END:VEVENT
BEGIN:VEVENT
DTSTART;TZID=UTC:20191119T190000
DTEND;TZID=UTC:20191119T210000
DTSTAMP:20260422T001307
CREATED:20191031T150110Z
LAST-MODIFIED:20191031T150159Z
UID:1155-1574190000-1574197200@sustainablefrome.org.uk
SUMMARY:Frome Town Council Climate Emergency Panel: 2. Transport
DESCRIPTION:Frome Town Council is hosting a series of free climate panels in 2019 for people to develop ideas and solutions to enable the town to meet its climate emergency targets. \nThe focus of this second panel is: Transport\, how can we reduce transport needs and air pollution?
URL:https://sustainablefrome.org.uk/event/frome-town-council-climate-emergency-panel-2-transport/
LOCATION:Town Hall\, Christchurch Street West\, Frome\, BA11 1EB
END:VEVENT
BEGIN:VEVENT
DTSTART;TZID=UTC:20191112T190000
DTEND;TZID=UTC:20191112T210000
DTSTAMP:20260422T001307
CREATED:20191031T150104Z
LAST-MODIFIED:20191031T150104Z
UID:1154-1573585200-1573592400@sustainablefrome.org.uk
SUMMARY:Frome Town Council Climate Emergency Panel: 1. Energy
DESCRIPTION:Frome Town Council is hosting a series of free climate panels in 2019 for people to develop ideas and solutions to enable the town to meet its climate emergency targets. \nThe focus of this first panel is: Energy\, how can we reduce the amount we use and generate energy cleanly?
URL:https://sustainablefrome.org.uk/event/frome-town-council-climate-emergency-panel-1-energy/
LOCATION:Town Hall\, Christchurch Street West\, Frome\, BA11 1EB
END:VEVENT
BEGIN:VEVENT
DTSTART;TZID=UTC:20191107T190000
DTEND;TZID=UTC:20191107T210000
DTSTAMP:20260422T001307
CREATED:20191104T173541Z
LAST-MODIFIED:20191104T173541Z
UID:1166-1573153200-1573160400@sustainablefrome.org.uk
SUMMARY:Sustainable Frome monthly meeting for November: Low Carbon Living - Low Carbon Homes
DESCRIPTION:The idea is to share knowledge\, ideas and experiences. If you have successfully lowered your carbon footprint\, come and tell us how you did it. What problems did you run up against? How did you get round them? Or maybe you want to lower your footprint and have nothing but questions – we’ll try and answer them.\nHenry Parr will be hosting / facilitating. \n\nAs usual\, we’ll start with shared food so bring something veggie to share if you’d like to join us. We’ll move onto notices at around 7.30\, followed by the main meeting.
URL:https://sustainablefrome.org.uk/event/sustainable-frome-monthly-meeting-for-november-low-carbon-living-low-carbon-homes/
LOCATION:The Good Heart\, 7 Palmer Street\, Frome\, BA11 1DS\, United Kingdom
ORGANIZER;CN="Sustainable Frome":MAILTO:info@sustainablefrome.org.uk
END:VEVENT
BEGIN:VEVENT
DTSTART;VALUE=DATE:20191007
DTEND;VALUE=DATE:20191021
DTSTAMP:20260422T001307
CREATED:20190813T161157Z
LAST-MODIFIED:20190813T161157Z
UID:1100-1570406400-1571615999@sustainablefrome.org.uk
SUMMARY:Extinction Rebellion INTERNATIONAL REBELLION
DESCRIPTION:Governments have shown they will not listen to petitions\, strongly-worded pleas\, or climate scientists. They have failed in their duty to protect us. \nThe system is broken. And time is running out. \nYoung and old\, we must take matters into our own hands and stand together in peace. It’s the only way to secure our future. \nJoin us in International Rebellion.
URL:https://sustainablefrome.org.uk/event/extinction-rebellion-international-rebellion-2/
LOCATION:Everywhere
END:VEVENT
BEGIN:VEVENT
DTSTART;TZID=UTC:20191005T090000
DTEND;TZID=UTC:20191005T140000
DTSTAMP:20260422T001307
CREATED:20190128T114952Z
LAST-MODIFIED:20190128T114952Z
UID:860-1570266000-1570284000@sustainablefrome.org.uk
SUMMARY:Vegan Market
DESCRIPTION:Now bi-monthly!\nStalls featuring vegan food\, drinks\, clothing\, homewares\, advice and information.\nFREE ADMISSION\n2019 dates: 2 Feb\, 6 Apr\, 1 Jun\, 3 Aug\, 5 Oct\, 7 Dec
URL:https://sustainablefrome.org.uk/event/vegan-market-5/
LOCATION:Cheese and Grain\, Market Yard\, Frome\, BA11 1BE
END:VEVENT
BEGIN:VEVENT
DTSTART;TZID=UTC:20191003T190000
DTEND;TZID=UTC:20191003T210000
DTSTAMP:20260422T001307
CREATED:20190930T133115Z
LAST-MODIFIED:20190930T133115Z
UID:1149-1570129200-1570136400@sustainablefrome.org.uk
SUMMARY:Sustainable Frome Monthly meeting for October: Trees
DESCRIPTION:Pavla Kislorova and Charlotte Le Marchant from The Tree Group Frome and FROGS (Frome Recreation and Open Ground supporters) will be talking about their previous and future tree planting activities\, and how members of the community can get involved. \nThey will be giving an update on Frome Town Council’s All About Trees campaign.\nThere will also be a demonstration of apple pressing using Sustainable Frome’s apple press. Come for the talk\, stay for the juice . . . . \nAs ever\, we’ll start with shared food from 7.00\, so bring something veggie to share.
URL:https://sustainablefrome.org.uk/event/sustainable-frome-monthly-meeting-for-october-trees/
LOCATION:The Good Heart\, 7 Palmer Street\, Frome\, BA11 1DS\, United Kingdom
END:VEVENT
BEGIN:VEVENT
DTSTART;TZID=UTC:20191002T183000
DTEND;TZID=UTC:20191002T213000
DTSTAMP:20260422T001307
CREATED:20190813T160408Z
LAST-MODIFIED:20190813T160408Z
UID:1098-1570041000-1570051800@sustainablefrome.org.uk
SUMMARY:XR Frome General Meeting @ The Rye Bakery
DESCRIPTION:XR Frome General Meeting. Bring food to share
URL:https://sustainablefrome.org.uk/event/xr-frome-general-meeting-the-rye-bakery-3/
LOCATION:Rye Bakery\, Whittox Lane\, Frome\, BA11 3BY
ORGANIZER;CN="Extinction Rebellion Frome":MAILTO:extinctionrebellionfrome@gmail.com
END:VEVENT
BEGIN:VEVENT
DTSTART;TZID=UTC:20190929T150000
DTEND;TZID=UTC:20190929T183000
DTSTAMP:20260422T001308
CREATED:20190813T155021Z
LAST-MODIFIED:20190813T160216Z
UID:1094-1569769200-1569781800@sustainablefrome.org.uk
SUMMARY:Frome Community Grief Tending Ceremony
DESCRIPTION:“It is proper that we continue to weep at this time” – Clarissa Pinkola Estes. Our world brings up grief of many kinds – from life-changing events to small everyday moments. For us to face that fully and with courage\, rather than distracting ourselves from it\, our culture needs far more spaces to support us through that grief. This ritual space provides a gentle non-judgemental holding for fully expressing what’s on your heart at whatever level you feel comfortable. When we attend to our grief\, we are also attending to the love inside us. \nTo reserve your place\, and for more information\, please fill out this form
URL:https://sustainablefrome.org.uk/event/frome-community-grief-tending-ceremony/
END:VEVENT
BEGIN:VEVENT
DTSTART;TZID=UTC:20190923T190000
DTEND;TZID=UTC:20190923T210000
DTSTAMP:20260422T001308
CREATED:20190813T154546Z
LAST-MODIFIED:20190826T165652Z
UID:1092-1569265200-1569272400@sustainablefrome.org.uk
SUMMARY:XR Frome: Know Your Rights Training
DESCRIPTION:Essential information for anyone taking part in a non-violent direct action. This training will address your legal rights\, what to say and not say to police\, both before and if arrested\, as well as what happens at a police station and afterward\, including possible charges and their consequences.
URL:https://sustainablefrome.org.uk/event/xr-frome-general-meeting-at-frome-town-hall-2/
LOCATION:Town Hall\, Christchurch Street West\, Frome\, BA11 1EB
ORGANIZER;CN="Extinction Rebellion Frome":MAILTO:extinctionrebellionfrome@gmail.com
END:VEVENT
BEGIN:VEVENT
DTSTART;TZID=UTC:20190923T140000
DTEND;TZID=UTC:20190923T160000
DTSTAMP:20260422T001308
CREATED:20190828T143817Z
LAST-MODIFIED:20190828T143817Z
UID:1134-1569247200-1569254400@sustainablefrome.org.uk
SUMMARY:XR Frome: De-escalating skills workshop
DESCRIPTION:In preparation for the October Rebellion we will be learning how to defuse conflict and communicate clearly and kindly in heated situations. The workshop will include input on helpful communication and a chance to practice using simple role plays. Annabelle Macfadyen and Vajrasara Rankin will offer 2 identical sessions to enable people to attend one or the other. Sessions are free to XR activists. \nPlease email vajrasara@gmail.com to let us know if you are coming.  \nVajrasara is a certified trainer in Nonviolent Communication.
URL:https://sustainablefrome.org.uk/event/xr-frome-de-escalating-skills-workshop-2/
LOCATION:Rye Bakery\, Whittox Lane\, Frome\, BA11 3BY
ORGANIZER;CN="Extinction Rebellion Frome":MAILTO:extinctionrebellionfrome@gmail.com
END:VEVENT
BEGIN:VEVENT
DTSTART;TZID=UTC:20190920T110000
DTEND;TZID=UTC:20190920T230000
DTSTAMP:20260422T001308
CREATED:20190918T154415Z
LAST-MODIFIED:20190918T154415Z
UID:1145-1568977200-1569020400@sustainablefrome.org.uk
SUMMARY:Start of the Global Strike for Climate
DESCRIPTION:Come and show your support for the Global Strike for Climate\, which starts today and lasts a week. \nGather at the Boyle Cross at 11am. \nBring banners and cake and spread the word…
URL:https://sustainablefrome.org.uk/event/start-of-the-global-strike-for-climate/
LOCATION:Boyle Cross\, Market Place\, Frome\, BA11 1BW
END:VEVENT
BEGIN:VEVENT
DTSTART;VALUE=DATE:20190920
DTEND;VALUE=DATE:20190928
DTSTAMP:20260422T001308
CREATED:20190813T162400Z
LAST-MODIFIED:20190828T143306Z
UID:1103-1568937600-1569628799@sustainablefrome.org.uk
SUMMARY:Fridaysforfuture Global Strike for Climate
DESCRIPTION:Greta Thunberg and Fridaysforfuture: “Starting on Friday 20 September we will kick-start a week of climate action with a worldwide strike for the climate. We’re asking adults to step up alongside us. There are many different plans under way in different parts of the world for adults to join together and step up and out of your comfort zone for our climate. “Let’s all join together\, with your neighbours\, co-workers\, friends\, family and go out on to the streets to make your voices heard and make this a turning point in our history.” \nMore here: https://www.theguardian.com/commentisfree/2019/may/23/greta-thunberg-young-people-climate-strikes-20-september
URL:https://sustainablefrome.org.uk/event/fridaysforfuture-global-strike-for-climate/
END:VEVENT
END:VCALENDAR