BEGIN:VCALENDAR
VERSION:2.0
PRODID:-//Sustainable Frome - ECPv6.15.17.1//NONSGML v1.0//EN
CALSCALE:GREGORIAN
METHOD:PUBLISH
X-WR-CALNAME:Sustainable Frome
X-ORIGINAL-URL:https://sustainablefrome.org.uk
X-WR-CALDESC:Events for Sustainable Frome
REFRESH-INTERVAL;VALUE=DURATION:PT1H
X-Robots-Tag:noindex
X-PUBLISHED-TTL:PT1H
BEGIN:VTIMEZONE
TZID:UTC
BEGIN:STANDARD
TZOFFSETFROM:+0000
TZOFFSETTO:+0000
TZNAME:UTC
DTSTART:20180101T000000
END:STANDARD
END:VTIMEZONE
BEGIN:VEVENT
DTSTART;TZID=UTC:20190929T150000
DTEND;TZID=UTC:20190929T183000
DTSTAMP:20260423T104406
CREATED:20190813T155021Z
LAST-MODIFIED:20190813T160216Z
UID:1094-1569769200-1569781800@sustainablefrome.org.uk
SUMMARY:Frome Community Grief Tending Ceremony
DESCRIPTION:“It is proper that we continue to weep at this time” – Clarissa Pinkola Estes. Our world brings up grief of many kinds – from life-changing events to small everyday moments. For us to face that fully and with courage\, rather than distracting ourselves from it\, our culture needs far more spaces to support us through that grief. This ritual space provides a gentle non-judgemental holding for fully expressing what’s on your heart at whatever level you feel comfortable. When we attend to our grief\, we are also attending to the love inside us. \nTo reserve your place\, and for more information\, please fill out this form
URL:https://sustainablefrome.org.uk/event/frome-community-grief-tending-ceremony/
END:VEVENT
BEGIN:VEVENT
DTSTART;TZID=UTC:20190923T190000
DTEND;TZID=UTC:20190923T210000
DTSTAMP:20260423T104406
CREATED:20190813T154546Z
LAST-MODIFIED:20190826T165652Z
UID:1092-1569265200-1569272400@sustainablefrome.org.uk
SUMMARY:XR Frome: Know Your Rights Training
DESCRIPTION:Essential information for anyone taking part in a non-violent direct action. This training will address your legal rights\, what to say and not say to police\, both before and if arrested\, as well as what happens at a police station and afterward\, including possible charges and their consequences.
URL:https://sustainablefrome.org.uk/event/xr-frome-general-meeting-at-frome-town-hall-2/
LOCATION:Town Hall\, Christchurch Street West\, Frome\, BA11 1EB
ORGANIZER;CN="Extinction Rebellion Frome":MAILTO:extinctionrebellionfrome@gmail.com
END:VEVENT
BEGIN:VEVENT
DTSTART;TZID=UTC:20190923T140000
DTEND;TZID=UTC:20190923T160000
DTSTAMP:20260423T104406
CREATED:20190828T143817Z
LAST-MODIFIED:20190828T143817Z
UID:1134-1569247200-1569254400@sustainablefrome.org.uk
SUMMARY:XR Frome: De-escalating skills workshop
DESCRIPTION:In preparation for the October Rebellion we will be learning how to defuse conflict and communicate clearly and kindly in heated situations. The workshop will include input on helpful communication and a chance to practice using simple role plays. Annabelle Macfadyen and Vajrasara Rankin will offer 2 identical sessions to enable people to attend one or the other. Sessions are free to XR activists. \nPlease email vajrasara@gmail.com to let us know if you are coming.  \nVajrasara is a certified trainer in Nonviolent Communication.
URL:https://sustainablefrome.org.uk/event/xr-frome-de-escalating-skills-workshop-2/
LOCATION:Rye Bakery\, Whittox Lane\, Frome\, BA11 3BY
ORGANIZER;CN="Extinction Rebellion Frome":MAILTO:extinctionrebellionfrome@gmail.com
END:VEVENT
BEGIN:VEVENT
DTSTART;TZID=UTC:20190920T110000
DTEND;TZID=UTC:20190920T230000
DTSTAMP:20260423T104406
CREATED:20190918T154415Z
LAST-MODIFIED:20190918T154415Z
UID:1145-1568977200-1569020400@sustainablefrome.org.uk
SUMMARY:Start of the Global Strike for Climate
DESCRIPTION:Come and show your support for the Global Strike for Climate\, which starts today and lasts a week. \nGather at the Boyle Cross at 11am. \nBring banners and cake and spread the word…
URL:https://sustainablefrome.org.uk/event/start-of-the-global-strike-for-climate/
LOCATION:Boyle Cross\, Market Place\, Frome\, BA11 1BW
END:VEVENT
BEGIN:VEVENT
DTSTART;VALUE=DATE:20190920
DTEND;VALUE=DATE:20190928
DTSTAMP:20260423T104406
CREATED:20190813T162400Z
LAST-MODIFIED:20190828T143306Z
UID:1103-1568937600-1569628799@sustainablefrome.org.uk
SUMMARY:Fridaysforfuture Global Strike for Climate
DESCRIPTION:Greta Thunberg and Fridaysforfuture: “Starting on Friday 20 September we will kick-start a week of climate action with a worldwide strike for the climate. We’re asking adults to step up alongside us. There are many different plans under way in different parts of the world for adults to join together and step up and out of your comfort zone for our climate. “Let’s all join together\, with your neighbours\, co-workers\, friends\, family and go out on to the streets to make your voices heard and make this a turning point in our history.” \nMore here: https://www.theguardian.com/commentisfree/2019/may/23/greta-thunberg-young-people-climate-strikes-20-september
URL:https://sustainablefrome.org.uk/event/fridaysforfuture-global-strike-for-climate/
END:VEVENT
BEGIN:VEVENT
DTSTART;TZID=UTC:20190918T183000
DTEND;TZID=UTC:20190918T213000
DTSTAMP:20260423T104406
CREATED:20190813T154452Z
LAST-MODIFIED:20190813T154452Z
UID:1090-1568831400-1568842200@sustainablefrome.org.uk
SUMMARY:XR Frome General Meeting @ The Rye Bakery
DESCRIPTION:Extinction Rebellion general meeting. Bring food to share
URL:https://sustainablefrome.org.uk/event/xr-frome-general-meeting-the-rye-bakery-2/
LOCATION:Rye Bakery\, Whittox Lane\, Frome\, BA11 3BY
ORGANIZER;CN="Extinction Rebellion Frome":MAILTO:extinctionrebellionfrome@gmail.com
END:VEVENT
BEGIN:VEVENT
DTSTART;TZID=UTC:20190917T193000
DTEND;TZID=UTC:20190917T213000
DTSTAMP:20260423T104406
CREATED:20190826T170329Z
LAST-MODIFIED:20190826T170329Z
UID:1125-1568748600-1568755800@sustainablefrome.org.uk
SUMMARY:XR Frome: De-escalating skills workshop 
DESCRIPTION:De-escalating skills workshop  At Rye Bakery\, Whittox Lane\, Frome \nIn preparation for the October Rebellion we will be learning how to defuse conflict and communicate clearly and kindly in heated situations. The workshop will include input on helpful communication and a chance to practice using simple role plays.  Annabelle Macfadyen and Vajrasara Rankin will offer 2 identical sessions to enable people to attend one or the other. Sessions are free to XR activists. \nPlease email vajrasara@gmail.com to let us know if you are coming. Vajrasara is a certified trainer in Nonviolent Communication.
URL:https://sustainablefrome.org.uk/event/xr-frome-de-escalating-skills-workshop/
END:VEVENT
BEGIN:VEVENT
DTSTART;TZID=UTC:20190914T140000
DTEND;TZID=UTC:20190914T170000
DTSTAMP:20260423T104406
CREATED:20190826T170101Z
LAST-MODIFIED:20190828T142800Z
UID:1123-1568469600-1568480400@sustainablefrome.org.uk
SUMMARY:Frome XR: (tbc) Non-Violent Direct Action Training
DESCRIPTION:Date and time tbc — check with XR Frome \nNVDA training is essential to participating effectively and safely in Extinction Rebellion actions. The training covers the fundamentals of how to prepare both mentally and behaviourally\, personally and collectively. It will give you the confidence to engage\, and to use your time and energy meaningfully.
URL:https://sustainablefrome.org.uk/event/frome-xr-nvda-training/
END:VEVENT
BEGIN:VEVENT
DTSTART;TZID=UTC:20190910T180000
DTEND;TZID=UTC:20190910T193000
DTSTAMP:20260423T104406
CREATED:20190902T101312Z
LAST-MODIFIED:20190902T102402Z
UID:1139-1568138400-1568143800@sustainablefrome.org.uk
SUMMARY:Free Solar for Businesses - Save Money and the Planet
DESCRIPTION:Free Solar Power for Businesses!\nThis is a brilliant scheme for local businesses – The energy company ‘Green Nation’ will install solar panels on your roof for free\, and sell you the green electricity at a discounted price. You will save money and help with the climate emergency. Come along and find out more. \nThe event is free but you need to register. Find out more and register here
URL:https://sustainablefrome.org.uk/event/free-solar-for-businesses-save-money-and-the-planet/
LOCATION:Town Hall\, Christchurch Street West\, Frome\, BA11 1EB
END:VEVENT
BEGIN:VEVENT
DTSTART;TZID=UTC:20190909T190000
DTEND;TZID=UTC:20190909T210000
DTSTAMP:20260423T104406
CREATED:20190813T154110Z
LAST-MODIFIED:20190813T154110Z
UID:1088-1568055600-1568062800@sustainablefrome.org.uk
SUMMARY:XR Frome General meeting at Frome Town Hall
DESCRIPTION:
URL:https://sustainablefrome.org.uk/event/xr-frome-general-meeting-at-frome-town-hall/
LOCATION:Town Hall\, Christchurch Street West\, Frome\, BA11 1EB
ORGANIZER;CN="Extinction Rebellion Frome":MAILTO:extinctionrebellionfrome@gmail.com
END:VEVENT
BEGIN:VEVENT
DTSTART;TZID=UTC:20190908T123000
DTEND;TZID=UTC:20190908T163000
DTSTAMP:20260423T104406
CREATED:20190902T100823Z
LAST-MODIFIED:20190902T100823Z
UID:1136-1567945800-1567960200@sustainablefrome.org.uk
SUMMARY:Family Cycling Event: Ride Kids Ride
DESCRIPTION:An exciting family event for kids who love to cycle \nThere will be EBikes to try out\, as well as firm Frome favourite the smoothie bike. \nMore info here: https://www.facebook.com/events/324682954817213/ \n  \n 
URL:https://sustainablefrome.org.uk/event/family-cycling-event-ride-kids-ride/
LOCATION:Old Showfield\, Frome\, BA11 2AH
END:VEVENT
BEGIN:VEVENT
DTSTART;VALUE=DATE:20190907
DTEND;VALUE=DATE:20190909
DTSTAMP:20260423T104406
CREATED:20190625T135126Z
LAST-MODIFIED:20190625T135126Z
UID:1054-1567814400-1567987199@sustainablefrome.org.uk
SUMMARY:XR SW Festival - Rising Tide
DESCRIPTION:XR SW Festival – Rising Tide at Tapeley Park\, Devon
URL:https://sustainablefrome.org.uk/event/xr-sw-festival-rising-tide/
END:VEVENT
BEGIN:VEVENT
DTSTART;TZID=UTC:20190905T190000
DTEND;TZID=UTC:20190905T210000
DTSTAMP:20260423T104406
CREATED:20190902T101949Z
LAST-MODIFIED:20190902T101949Z
UID:1142-1567710000-1567717200@sustainablefrome.org.uk
SUMMARY:Sustainable Frome monthly meeting
DESCRIPTION:What with summer and all this meeting is now going to be mainly a social get together and a chance to regroup and plan the year ahead. We will also be assessing Frome’s progress towards Zero Carbon.
URL:https://sustainablefrome.org.uk/event/sustainable-frome-monthly-meeting-3/
LOCATION:The Good Heart\, 7 Palmer Street\, Frome\, BA11 1DS\, United Kingdom
CATEGORIES:Next meeting
ORGANIZER;CN="Sustainable Frome":MAILTO:info@sustainablefrome.org.uk
END:VEVENT
BEGIN:VEVENT
DTSTART;TZID=UTC:20190904T183000
DTEND;TZID=UTC:20190904T213000
DTSTAMP:20260423T104406
CREATED:20190813T123500Z
LAST-MODIFIED:20190826T165047Z
UID:1085-1567621800-1567632600@sustainablefrome.org.uk
SUMMARY:XR Frome General Meeting @ The Rye Bakery
DESCRIPTION:XR Frome General Meeting @ The Rye Bakery: 6.30-9.30 – bring food to share \nBring food to share. There’ll be a presentation of the second part of XR’s ‘dna’: the strategy of how civil disobedience serves the aims of achieving radical change in political will to address the climate emergency.
URL:https://sustainablefrome.org.uk/event/xr-frome-general-meeting-the-rye-bakery/
LOCATION:Rye Bakery\, Whittox Lane\, Frome\, BA11 3BY
ORGANIZER;CN="Extinction Rebellion Frome":MAILTO:extinctionrebellionfrome@gmail.com
END:VEVENT
BEGIN:VEVENT
DTSTART;TZID=UTC:20190901T160000
DTEND;TZID=UTC:20190901T190000
DTSTAMP:20260423T104406
CREATED:20190813T123158Z
LAST-MODIFIED:20190813T123308Z
UID:1081-1567353600-1567364400@sustainablefrome.org.uk
SUMMARY:Aaron Thierry talk: Find courage to face the brutal logic of climate breakdown
DESCRIPTION:How can we meet the facts of Climate Breakdown and an Ecological Crisis with optimism? What does the latest science say? And what can we be do about it? Dr. Aaron Thierry will give an overview of the latest science of climate breakdown. He’ll make explicit the connections between the physical and ecological changes already taking place\, and how that impacts human welfare. He will show how current emissions targets are nowhere near ambitious enough to avoid extreme alterations to our environment. The talk will demonstrate the human capacity to initiate change. It will explore how previous challenges have been met\, as well as examine examples of action around the world that are already taking place. He will finish by envisaging what needs to happen for individuals and societies to contribute to the radical transformation necessary. This event\, being hosted in collaboration with Frome Town Council\, is suitable for a general audience\, and will be participatory. \nAaron Thierry received his PhD in Ecology from the University of Sheffield. He subsequently researched the impacts of global warming on the carbon cycle in Arctic ecosystems at Edinburgh University. His studies have led him to be very concerned about the potential impacts of disruptions to our climate. He has been a passionate advocate for environmental and social justice for several years.
URL:https://sustainablefrome.org.uk/event/aaron-thierry-talk-find-courage-to-face-the-brutal-logic-of-climate-breakdown/
LOCATION:Town Hall\, Christchurch Street West\, Frome\, BA11 1EB
END:VEVENT
BEGIN:VEVENT
DTSTART;TZID=UTC:20190828T183000
DTEND;TZID=UTC:20190828T213000
DTSTAMP:20260423T104406
CREATED:20190813T122138Z
LAST-MODIFIED:20190813T122138Z
UID:1076-1567017000-1567027800@sustainablefrome.org.uk
SUMMARY:XR Frome General Meeting
DESCRIPTION:XR Frome General Meeting @ The Rye Bakery: 6.30-9.30 – bring food to share
URL:https://sustainablefrome.org.uk/event/xr-frome-general-meeting-2/
LOCATION:Rye Bakery\, Whittox Lane\, Frome\, BA11 3BY
ORGANIZER;CN="Extinction Rebellion Frome":MAILTO:extinctionrebellionfrome@gmail.com
END:VEVENT
BEGIN:VEVENT
DTSTART;VALUE=DATE:20190828
DTEND;VALUE=DATE:20190902
DTSTAMP:20260423T104406
CREATED:20190813T122941Z
LAST-MODIFIED:20190813T122941Z
UID:1078-1566950400-1567382399@sustainablefrome.org.uk
SUMMARY:Campfire Campout
DESCRIPTION:The social network Campfire Convention is hosting a five day gathering in the glorious Somerset countryside to celebrate life. Join them for talks\, panels\, ‘how to’ sessions\, games\, cookery\, alternative therapies\, music\, performance art\, foraging\, yoga and wellbeing. \n“The vibe is hay bales\, campfires\, night skies\, cinema\, street food\, picnics\, glamping and spontaneity. Part of our programme utilises the open space format to allow radical participation – enabling those who attend to convene their own sessions. We intend to build a truly democratic festival to explore ways we can imagine a better world\, and then empower ourselves to actually make it happen.”
URL:https://sustainablefrome.org.uk/event/campfire-campout/
END:VEVENT
BEGIN:VEVENT
DTSTART;TZID=UTC:20190803T090000
DTEND;TZID=UTC:20190803T140000
DTSTAMP:20260423T104406
CREATED:20190128T114855Z
LAST-MODIFIED:20190128T114855Z
UID:858-1564822800-1564840800@sustainablefrome.org.uk
SUMMARY:Vegan Market
DESCRIPTION:Now bi-monthly!\nStalls featuring vegan food\, drinks\, clothing\, homewares\, advice and information.\nFREE ADMISSION\n2019 dates: 2 Feb\, 6 Apr\, 1 Jun\, 3 Aug\, 5 Oct\, 7 Dec
URL:https://sustainablefrome.org.uk/event/vegan-market-4/
LOCATION:Cheese and Grain\, Market Yard\, Frome\, BA11 1BE
END:VEVENT
BEGIN:VEVENT
DTSTART;TZID=UTC:20190801T190000
DTEND;TZID=UTC:20190801T210000
DTSTAMP:20260423T104406
CREATED:20190620T151734Z
LAST-MODIFIED:20190620T151734Z
UID:1048-1564686000-1564693200@sustainablefrome.org.uk
SUMMARY:Frome Area CLT Special General Meeting
DESCRIPTION:In order to vote at this meeting you will need to be a member of the CLT (at a cost of £1). Make sure you have completed the application form beforehand. You can find the form\, along with full instructions on the FACLT website
URL:https://sustainablefrome.org.uk/event/frome-area-clt-special-general-meeting/
LOCATION:Town Hall\, Christchurch Street West\, Frome\, BA11 1EB
END:VEVENT
BEGIN:VEVENT
DTSTART;TZID=UTC:20190716T120000
DTEND;TZID=UTC:20190718T190000
DTSTAMP:20260423T104406
CREATED:20190712T133443Z
LAST-MODIFIED:20190712T133443Z
UID:1071-1563278400-1563476400@sustainablefrome.org.uk
SUMMARY:Stir to Action Festival - A Playground for the New Economy
DESCRIPTION:Field 725\, Critch Hill. \nJoin our playground for the new economy in a beautiful green field in Somerset!\nThe Stir to Action Festival will be a unique three days of inspiring conversations\, participatory theatre\, virtual reality experiences\, live podcasts\, interactive workshops\, idea surgeries\, live crowdfunding\, sustainable food\, craft beer\, and\, of course\, live music! \nTickets\nYou can buy a 3-day festival ticket\, or one day tickets for 16\,17\, or 18 July. There are also a limited number of glamping options.\nMore info here
URL:https://sustainablefrome.org.uk/event/stir-to-action-festival-a-playground-for-the-new-economy/
END:VEVENT
BEGIN:VEVENT
DTSTART;VALUE=DATE:20190715
DTEND;VALUE=DATE:20190720
DTSTAMP:20260423T104406
CREATED:20190712T133005Z
LAST-MODIFIED:20190712T133005Z
UID:1069-1563148800-1563580799@sustainablefrome.org.uk
SUMMARY:Extinction Rebellion SUMMER UPRISING
DESCRIPTION:From Mon 15th July onwards\, Bristol and other cities \nAn organic\, decentralised coordinated action disrupting city spaces with the message ACT NOW! \nRead more and sign up
URL:https://sustainablefrome.org.uk/event/extinction-rebellion-summer-uprising/
END:VEVENT
BEGIN:VEVENT
DTSTART;TZID=UTC:20190714T130000
DTEND;TZID=UTC:20190714T180000
DTSTAMP:20260423T104406
CREATED:20190712T132451Z
LAST-MODIFIED:20190712T132451Z
UID:1067-1563109200-1563127200@sustainablefrome.org.uk
SUMMARY:Meadowfest @ Rodden Meadow
DESCRIPTION:Celebrate Frome’s great outdoors!\nA free\, family fun event\, by\, or even in\, the river through Rodden Meadow.\nLearn about local wildlife. There will be things to make and do such as foraging\, pottery\, and willow weaving.\nLots of local groups will be providing all kinds of fun activities!\nFood available or bring your own picnic.\nNo parking\, walk in only. Access from Willow Vale\, Rodden Road or the river walk.\nThose who need extra help getting to the meadow should contact Frome Town Council on 01373 465757 or email info@frometowncouncil.gov.uk.
URL:https://sustainablefrome.org.uk/event/meadowfest-rodden-meadow/
END:VEVENT
BEGIN:VEVENT
DTSTART;TZID=UTC:20190708T194500
DTEND;TZID=UTC:20190708T194500
DTSTAMP:20260423T104406
CREATED:20190625T134450Z
LAST-MODIFIED:20190625T134450Z
UID:1051-1562615100-1562615100@sustainablefrome.org.uk
SUMMARY:Robin Boardman at Rye Bakery
DESCRIPTION:Part of the ‘Time is Now Tour’.  \nOne of the principal instigators of Extinction Rebellion\, Robin Boardman is an example of how those in their early twenties are bringing the Climate and Ecological Emergency to the forefront of global politics. Robin will be talking about XR Strategy\, upcoming actions and how XR is organised as a sociocracy.
URL:https://sustainablefrome.org.uk/event/robin-boardman-at-rye-bakery/
LOCATION:Rye Bakery\, Whittox Lane\, Frome\, BA11 3BY
ORGANIZER;CN="Extinction Rebellion Frome":MAILTO:extinctionrebellionfrome@gmail.com
END:VEVENT
BEGIN:VEVENT
DTSTART;TZID=UTC:20190707T103000
DTEND;TZID=UTC:20190707T163000
DTSTAMP:20260423T104406
CREATED:20190628T174332Z
LAST-MODIFIED:20190628T174332Z
UID:1057-1562495400-1562517000@sustainablefrome.org.uk
SUMMARY:What are you wearing? - a fashion event for the ethically curious
DESCRIPTION:How much do you know about the clothes you wear? What are they made of? Who made them? What social & environmental impact do they have? How much does it matter to you?\n\nDrop in to this free event for a thought-provoking\, interactive\, fun experience with ideas\, inspiration & games that explore the story of the clothes we wear. For anyone who wears clothes (and wants to do so ethically).\n\nThere will be games\, creative workshops\, a clothes swap and market stalls selling ethically-made fashion items.\n\nFor more information visit www.ethicalfashionexperience.co.uk
URL:https://sustainablefrome.org.uk/event/what-are-you-wearing-a-fashion-event-for-the-ethically-curious/
LOCATION:The Silk Mill\, Merchants Barton\, Frome\, BA11 1PT
END:VEVENT
BEGIN:VEVENT
DTSTART;TZID=UTC:20190704T190000
DTEND;TZID=UTC:20190704T190000
DTSTAMP:20260423T104406
CREATED:20190701T132803Z
LAST-MODIFIED:20190701T132803Z
UID:1059-1562266800-1562266800@sustainablefrome.org.uk
SUMMARY:Sustainable Frome Monthly Meeting for July: Plans for the next year
DESCRIPTION:Starting with shared food — please bring something to share if you’d like to join in — from 7pm. The meeting will kick off from around 7.30pm \nWe will be discussing a meeting plan for next year (ie Sept – July).\nGenerally\, the idea is that SF meetings will be a very practical focus on specific topics to do with Frome. (as distinct from the Extinction Rebellion’s visioning and direct action) Another aim will be to reflect and amplify some of the many green initiatives and schemes that the Town Council runs. \nPlease come and propose ideas for the next year\, especially if you are prepared to run those meetings\, find speakers\, etc.
URL:https://sustainablefrome.org.uk/event/sustainable-frome-monthly-meeting-for-july-plans-for-the-next-year/
LOCATION:The Good Heart\, 7 Palmer Street\, Frome\, BA11 1DS\, United Kingdom
ORGANIZER;CN="Sustainable Frome":MAILTO:info@sustainablefrome.org.uk
END:VEVENT
BEGIN:VEVENT
DTSTART;TZID=UTC:20190629T093000
DTEND;TZID=UTC:20190629T160000
DTSTAMP:20260423T104406
CREATED:20190616T100418Z
LAST-MODIFIED:20190616T100718Z
UID:1045-1561800600-1561824000@sustainablefrome.org.uk
SUMMARY:Resilient Communities in Troubled Times
DESCRIPTION:The day will be an opportunity for members of Extinction Rebellion to get involved in laying the foundations for a restorative justice system in their local group. We will explore assumptions and expectations around the notion on conflict and what causes it. We will look at key principles and actions we want to ensure are included in our system. Embedded within the day is the skill of grief and a quality of restoring beauty. It will be a time of growing skills\, community and resilience. \n9.30 (for a 10am start) – 4pm \nPlease bring lunch to share. No booking is required. Payment for the day’s workshop has no up-front fixed cost however\, there will be a chance to contribute financially\, for those who can\, at the end of the day.
URL:https://sustainablefrome.org.uk/event/resilient-communities-in-troubled-times/
LOCATION:St Catharine’s Church Hall\, 4 Park Road\, Frome\, BA11 1EU
END:VEVENT
BEGIN:VEVENT
DTSTART;TZID=UTC:20190628T190000
DTEND;TZID=UTC:20190628T220000
DTSTAMP:20260423T104406
CREATED:20190616T090523Z
LAST-MODIFIED:20190616T100824Z
UID:1041-1561748400-1561759200@sustainablefrome.org.uk
SUMMARY:12 Characters in Search of an Apocalypse
DESCRIPTION:The 12 Characters project is a worldwide call for community dialogue around two of the most significant challenges of our times – Climate Change and the ongoing collapse of our ecosystems that support all life on Earth. \nNo booking required. There is no up-front fixed cost\, instead there will be a chance to contribute financially\, for those who can\, at the end of the evening
URL:https://sustainablefrome.org.uk/event/12-characters-in-search-of-an-apocalypse/
LOCATION:St Catharine’s Church Hall\, 4 Park Road\, Frome\, BA11 1EU
END:VEVENT
BEGIN:VEVENT
DTSTART;TZID=UTC:20190626T183000
DTEND;TZID=UTC:20190626T210000
DTSTAMP:20260423T104406
CREATED:20190616T085418Z
LAST-MODIFIED:20190616T085418Z
UID:1039-1561573800-1561582800@sustainablefrome.org.uk
SUMMARY:XR Frome General Meeting
DESCRIPTION:6.30pm- 7.30: Shared food \n7.30- 9.00: An opportunity for Working groups to get together\, for people not in a group to find one\, for new members to learn more about XR and to get planning the next action!
URL:https://sustainablefrome.org.uk/event/xr-frome-general-meeting/
LOCATION:Rye Bakery\, Whittox Lane\, Frome\, BA11 3BY
ORGANIZER;CN="Extinction Rebellion Frome":MAILTO:extinctionrebellionfrome@gmail.com
END:VEVENT
BEGIN:VEVENT
DTSTART;TZID=UTC:20190624T191500
DTEND;TZID=UTC:20190624T211500
DTSTAMP:20260423T104406
CREATED:20190616T075847Z
LAST-MODIFIED:20190616T075847Z
UID:1037-1561403700-1561410900@sustainablefrome.org.uk
SUMMARY:Climate Change - The Facts
DESCRIPTION:An opportunity to watch the BBC documentary Climate Change – The Facts followed by a discussion. \nAfter one of the hottest years on record\, Sir David Attenborough looks at the science of climate change and potential solutions to this global threat. Interviews with some of the world’s leading climate scientists explore recent extreme weather conditions such as unprecedented storms and catastrophic wildfires. They also reveal what dangerous levels of climate change could mean for both human populations and the natural world in the future.
URL:https://sustainablefrome.org.uk/event/climate-change-the-facts/
LOCATION:The Good Heart\, 7 Palmer Street\, Frome\, BA11 1DS\, United Kingdom
ORGANIZER;CN="Extinction Rebellion Frome":MAILTO:extinctionrebellionfrome@gmail.com
END:VEVENT
BEGIN:VEVENT
DTSTART;TZID=UTC:20190617T180000
DTEND;TZID=UTC:20190617T180000
DTSTAMP:20260423T104406
CREATED:20190616T075311Z
LAST-MODIFIED:20190616T075311Z
UID:1035-1560794400-1560794400@sustainablefrome.org.uk
SUMMARY:How to avoid Climate Breakdown
DESCRIPTION:An upbeat and engaging panel discussion. ‘While catastrophe is possible\, it’s not yet inevitable. There are ideas and actions that can get us out of this mess. We’re not talking about pipedream techno-fixes but the real far-reaching shifts we need to – and still can make.’ \nFor more information and to sign up for a free ticket here:\nhttps://www.eventbrite.com/e/how-to-avoid-climate-breakdown-frome-tickets-62579567170
URL:https://sustainablefrome.org.uk/event/how-to-avoid-climate-breakdown/
LOCATION:Rye Bakery\, Whittox Lane\, Frome\, BA11 3BY
END:VEVENT
END:VCALENDAR