BEGIN:VCALENDAR
VERSION:2.0
PRODID:-//Sustainable Frome - ECPv6.15.17.1//NONSGML v1.0//EN
CALSCALE:GREGORIAN
METHOD:PUBLISH
X-WR-CALNAME:Sustainable Frome
X-ORIGINAL-URL:https://sustainablefrome.org.uk
X-WR-CALDESC:Events for Sustainable Frome
REFRESH-INTERVAL;VALUE=DURATION:PT1H
X-Robots-Tag:noindex
X-PUBLISHED-TTL:PT1H
BEGIN:VTIMEZONE
TZID:UTC
BEGIN:STANDARD
TZOFFSETFROM:+0000
TZOFFSETTO:+0000
TZNAME:UTC
DTSTART:20220101T000000
END:STANDARD
END:VTIMEZONE
BEGIN:VEVENT
DTSTART;TZID=UTC:20241014T200000
DTEND;TZID=UTC:20241014T210000
DTSTAMP:20260419T232000
CREATED:20241001T092804Z
LAST-MODIFIED:20241008T185144Z
UID:2667-1728936000-1728939600@sustainablefrome.org.uk
SUMMARY:FromeFM radio show
DESCRIPTION:Our monthly radio show. \nThis show includes an interview with Diana Finch and her new book\, ‘Value Beyond Money’. \nListen to previous shows here \nhttps://www.mixcloud.com/FromeFM/playlists/sustainable-frome/
URL:https://sustainablefrome.org.uk/event/fromefm-radio-show/
LOCATION:frome.fm
END:VEVENT
BEGIN:VEVENT
DTSTART;TZID=UTC:20241003T183000
DTEND;TZID=UTC:20241003T210000
DTSTAMP:20260419T232000
CREATED:20240603T120055Z
LAST-MODIFIED:20240926T193845Z
UID:2612-1727980200-1727989200@sustainablefrome.org.uk
SUMMARY:Sustainable Frome October meeting: FILM - Six Inches of Soil
DESCRIPTION:FILM – Six Inches of Soil\, Thursday 3rd October\,\n6.30pm to 9.30pm Frome Town Hall \nSix Inches of Soil tells the inspiring story of young English farmers standing up against the industrial food system and transforming the way they produce food – to heal the soil\, our health and provide for local communities. \nDoors and bar open at 6:30pm\, screening starts at 7pm. \nThere will be a Q&A session after the film screening with local farmers\, food producers and environmentalists: \n\n\n\n\n\n\n\nBen Still – Loop Frome\nCaroline Wajsblum – Field 2 Fork\nJeremy Padfield – Foss Farms\nSue Padfield – Foss Farms\nEd Green – Chesterblade Hills\n\n\n\n\n\n\n\nThis event is hosted by Frome Wild Bunch\, Sustainable Frome and Future Shed Frome\, in association with Frome Town Council. \nThis event is Sold out!
URL:https://sustainablefrome.org.uk/event/sustainable-frome-october-meeting-2/
LOCATION:Town Hall\, Christchurch Street West\, Frome\, BA11 1EB
CATEGORIES:Next meeting
ORGANIZER;CN="Sustainable Frome":MAILTO:info@sustainablefrome.org.uk
END:VEVENT
BEGIN:VEVENT
DTSTART;TZID=UTC:20240905T190000
DTEND;TZID=UTC:20240905T210000
DTSTAMP:20260419T232000
CREATED:20240603T120008Z
LAST-MODIFIED:20240819T144018Z
UID:2613-1725562800-1725570000@sustainablefrome.org.uk
SUMMARY:Sustainable Frome September meeting
DESCRIPTION:Laura Tyley\, Transition Network Connector for the Southwest\, will be talking about new phase of our Transition movement building project for groups based in Wales and England. \n“We want to find out more about your work\, how we can support your group’s vision\, and explore ways to weave deeper supportive connections between us all. This project will culminate in a Transition Assembly in February\, an invitation for Transition groups across Wales and England to come together in one place\, explore the big challenges and opportunities in our work\, and forge a greater movement for change.” \nhttps://transitiontogether.org.uk/meet-your-network-weavers/ \nJoin us at the Good Heart for shared food from 7pm. The meeting will start at 7.30pm
URL:https://sustainablefrome.org.uk/event/sustainable-frome-september-meeting-2/
LOCATION:The Good Heart\, 7 Palmer Street\, Frome\, BA11 1DS\, United Kingdom
ORGANIZER;CN="Sustainable Frome":MAILTO:info@sustainablefrome.org.uk
END:VEVENT
BEGIN:VEVENT
DTSTART;TZID=UTC:20240801T190000
DTEND;TZID=UTC:20240801T210000
DTSTAMP:20260419T232000
CREATED:20240603T115947Z
LAST-MODIFIED:20240603T115947Z
UID:2614-1722538800-1722546000@sustainablefrome.org.uk
SUMMARY:Sustainable Frome August meeting
DESCRIPTION:Details coming soon … \nJoin us at the Good Heart for shared food from 7pm. The meeting will start at 7.30pm
URL:https://sustainablefrome.org.uk/event/sustainable-frome-august-meeting-3/
LOCATION:The Good Heart\, 7 Palmer Street\, Frome\, BA11 1DS\, United Kingdom
ORGANIZER;CN="Sustainable Frome":MAILTO:info@sustainablefrome.org.uk
END:VEVENT
BEGIN:VEVENT
DTSTART;TZID=UTC:20240704T190000
DTEND;TZID=UTC:20240704T210000
DTSTAMP:20260419T232000
CREATED:20240304T154540Z
LAST-MODIFIED:20240603T115715Z
UID:2596-1720119600-1720126800@sustainablefrome.org.uk
SUMMARY:Sustainable Frome July meeting
DESCRIPTION:Details coming soon … \nJoin us at the Good Heart for shared food from 7pm. The meeting will start at 7.30pm
URL:https://sustainablefrome.org.uk/event/sustainable-frome-jun2024/
LOCATION:The Good Heart\, 7 Palmer Street\, Frome\, BA11 1DS\, United Kingdom
ORGANIZER;CN="Sustainable Frome":MAILTO:info@sustainablefrome.org.uk
END:VEVENT
BEGIN:VEVENT
DTSTART;TZID=UTC:20240606T190000
DTEND;TZID=UTC:20240606T210000
DTSTAMP:20260419T232000
CREATED:20240603T115806Z
LAST-MODIFIED:20240603T115806Z
UID:2615-1717700400-1717707600@sustainablefrome.org.uk
SUMMARY:Sustainable Frome June meeting
DESCRIPTION:Details coming soon … \nJoin us at the Good Heart for shared food from 7pm. The meeting will start at 7.30pm
URL:https://sustainablefrome.org.uk/event/sustainable-frome-june-meeting/
LOCATION:The Good Heart\, 7 Palmer Street\, Frome\, BA11 1DS\, United Kingdom
ORGANIZER;CN="Sustainable Frome":MAILTO:info@sustainablefrome.org.uk
END:VEVENT
BEGIN:VEVENT
DTSTART;TZID=UTC:20240502T190000
DTEND;TZID=UTC:20240502T210000
DTSTAMP:20260419T232000
CREATED:20240304T154438Z
LAST-MODIFIED:20240304T154438Z
UID:2595-1714676400-1714683600@sustainablefrome.org.uk
SUMMARY:Sustainable Frome May meeting
DESCRIPTION:Details coming soon … \nJoin us at the Good Heart for shared food from 7pm. The meeting will start at 7.30pm
URL:https://sustainablefrome.org.uk/event/sustainable-frome-may2024/
LOCATION:The Good Heart\, 7 Palmer Street\, Frome\, BA11 1DS\, United Kingdom
ORGANIZER;CN="Sustainable Frome":MAILTO:info@sustainablefrome.org.uk
END:VEVENT
BEGIN:VEVENT
DTSTART;TZID=UTC:20240404T190000
DTEND;TZID=UTC:20240404T210000
DTSTAMP:20260419T232000
CREATED:20240304T154344Z
LAST-MODIFIED:20240304T154344Z
UID:2594-1712257200-1712264400@sustainablefrome.org.uk
SUMMARY:Sustainable Frome April meeting
DESCRIPTION:Details coming soon … \nJoin us at the Good Heart for shared food from 7pm. The meeting will start at 7.30pm
URL:https://sustainablefrome.org.uk/event/sustainable-frome-april2024/
LOCATION:The Good Heart\, 7 Palmer Street\, Frome\, BA11 1DS\, United Kingdom
ORGANIZER;CN="Sustainable Frome":MAILTO:info@sustainablefrome.org.uk
END:VEVENT
BEGIN:VEVENT
DTSTART;TZID=UTC:20240307T190000
DTEND;TZID=UTC:20240307T210000
DTSTAMP:20260419T232000
CREATED:20231110T143351Z
LAST-MODIFIED:20240304T155107Z
UID:2543-1709838000-1709845200@sustainablefrome.org.uk
SUMMARY:Sustainable Frome March meeting: TALK\, GROW\, THRIVE Frome
DESCRIPTION:TALK\, GROW\, THRIVE Frome — A Health and Wellbeing Programme\nTanya Slater is coming to share with us her plans to create a health and wellbeing programme to reduce stress/anxiety and depression for individuals\, families and communities in Frome that is inclusive and free/low cost to access. A beautifully simple programme that will bring the community together by teaching the Human Givens\, Needs Model of Wellbeing. To understand what their human needs are and how to effectively communicate to others what they need at any given moment. The project is called TALK\, GROW\, THRIVE Frome. The vision is a community wide language of wellbeing that aims to reduce health inequalities and empower individuals to take ownership of their own health and wellbeing while having less impact on our planet and saving money too. \nJoin us for a fun and interactive conversation and introduction to our own Human Given Needs. \nJoin us at the Good Heart for shared food from 7pm. The meeting will start at 7.30pm
URL:https://sustainablefrome.org.uk/event/sustainable-frome-march-meeting/
LOCATION:The Good Heart\, 7 Palmer Street\, Frome\, BA11 1DS\, United Kingdom
ORGANIZER;CN="Sustainable Frome":MAILTO:info@sustainablefrome.org.uk
END:VEVENT
BEGIN:VEVENT
DTSTART;TZID=UTC:20240218T100000
DTEND;TZID=UTC:20240218T140000
DTSTAMP:20260419T232000
CREATED:20240102T114540Z
LAST-MODIFIED:20240130T143735Z
UID:2572-1708250400-1708264800@sustainablefrome.org.uk
SUMMARY:Potato Day and Seed Swap 2024
DESCRIPTION:The Cheese and Grain will be packed with wonderful stalls with seed potatoes\, seeds\, plants\, local community groups and growing projects\, plus the community seed swap. \nPlus a series of FREE talks and workshops: details and booking here. \nEntry is £3 for adults (kids free)
URL:https://sustainablefrome.org.uk/event/potato-day-2024/
LOCATION:Cheese and Grain\, Market Yard\, Frome\, BA11 1BE
ATTACH;FMTTYPE=image/jpeg:https://sustainablefrome.org.uk/wp-content/uploads/2024/01/potatoday2024.jpg
END:VEVENT
BEGIN:VEVENT
DTSTART;TZID=UTC:20240201T190000
DTEND;TZID=UTC:20240201T210000
DTSTAMP:20260419T232000
CREATED:20231110T143239Z
LAST-MODIFIED:20240130T142215Z
UID:2541-1706814000-1706821200@sustainablefrome.org.uk
SUMMARY:Sustainable Frome Febuary meeting -- Film showing: Imprint
DESCRIPTION:Join us  at the Good Heart to watch the film Imprint. \nWhat can one person do? What can a group of people do? What do we want to leave behind? In the film “Imprint” we visit 13 projects in 13 different places where committed groups work for a vibrant future. A personal and poetic depiction of what it means to be fully human in the age of the Anthropocene. A co-production between Campfire Stories and the Swedish Transition Network. Watch the trailer here \nJoin us from 7pm for shared food; meeting and film from7.30pm
URL:https://sustainablefrome.org.uk/event/sustainable-frome-febuary-meeting-2/
LOCATION:The Good Heart\, 7 Palmer Street\, Frome\, BA11 1DS\, United Kingdom
ORGANIZER;CN="Sustainable Frome":MAILTO:info@sustainablefrome.org.uk
END:VEVENT
BEGIN:VEVENT
DTSTART;TZID=UTC:20240128T100000
DTEND;TZID=UTC:20240128T130000
DTSTAMP:20260419T232000
CREATED:20240102T115329Z
LAST-MODIFIED:20240102T115603Z
UID:2574-1706436000-1706446800@sustainablefrome.org.uk
SUMMARY:Tech Amnesty -- Donate your unused equipment
DESCRIPTION:Frome Town Council are hosting a tech amnesty with Somerset CIC Donate IT at Frome Town Hall on Sunday 28th January from 10am to 1pm. Donate IT collect\, refurbish and redistribute phones\, laptops\, tablets and other digital devices to people who need them. \nAnyone with devices to donate can bring them to the drop-off point in the town hall car park to hand to Donate IT volunteers.
URL:https://sustainablefrome.org.uk/event/tech-amnesty-donate-your-unused-equipment/
LOCATION:Town Hall\, Christchurch Street West\, Frome\, BA11 1EB
END:VEVENT
BEGIN:VEVENT
DTSTART;TZID=UTC:20231211T200000
DTEND;TZID=UTC:20231211T210000
DTSTAMP:20260419T232000
CREATED:20231110T212002Z
LAST-MODIFIED:20231110T212002Z
UID:2548-1702324800-1702328400@sustainablefrome.org.uk
SUMMARY:Frome FM radio show
DESCRIPTION:Listen on 96.6FM around Frome\, or online at frome.fm online\, or on your smart speaker. \nBroadcast on the 2nd Monday of every month\, with previous shows available on \n 
URL:https://sustainablefrome.org.uk/event/frome-fm-radio-show-dec11-2023/
LOCATION:frome.fm
CATEGORIES:radio
END:VEVENT
BEGIN:VEVENT
DTSTART;TZID=UTC:20231207T190000
DTEND;TZID=UTC:20231207T210000
DTSTAMP:20260419T232000
CREATED:20230829T144515Z
LAST-MODIFIED:20231205T153240Z
UID:2492-1701975600-1701982800@sustainablefrome.org.uk
SUMMARY:Sustainable Frome December meeting - cancelled
DESCRIPTION:Our usual December meeting is replaced by the Big Green Meet up on Tuesday 5th December
URL:https://sustainablefrome.org.uk/event/sustainable-frome-december-meeting-2/
LOCATION:The Good Heart\, 7 Palmer Street\, Frome\, BA11 1DS\, United Kingdom
ORGANIZER;CN="Sustainable Frome":MAILTO:info@sustainablefrome.org.uk
END:VEVENT
BEGIN:VEVENT
DTSTART;TZID=UTC:20231205T190000
DTEND;TZID=UTC:20231205T210000
DTSTAMP:20260419T232000
CREATED:20231110T212826Z
LAST-MODIFIED:20231110T212826Z
UID:2550-1701802800-1701810000@sustainablefrome.org.uk
SUMMARY:Big Green Festive Meet Up
DESCRIPTION:A festive invitation from Green & Healthy Frome and Sustainable Frome\nto our community to celebrate all the great work from 2023. \nLet’s come together for a green festive meet-up! After a busy 2023 where Frome’s community has once again outdone itself when it comes to actions to create a greener and healthier future admirably tackled in the face of some mighty local and global challenges\, this meeting will offer a chance to relax and celebrate all of the achievements of the past 12 months. And of course\, there will be mince pies! \nThe list of the year’s achievements by voluntary groups and individuals in Frome is certainly long – from reducing food waste\, to starting new community gardens\, the launch of Transition Streets in Frome\, another incredibly successful Great Big Green Week\, a plethora of inspiring events to support Sustainable Fashion Week\, a smashing Pumpkin Day and becoming a certified Bee Friendly Town. And to make sure 2024 can live up to this\, this will be a chance to informally start discussing what comes next. \nMake sure to arrive by 7pm to enjoy free food from Lungi Babas. \nPlease make sure you are booked on before the 24th November otherwise we cannot guarantee there will be food for you too!\nBook here: https://www.eventbrite.co.uk/e/big-green-festive-meet-up-tickets-745975752557
URL:https://sustainablefrome.org.uk/event/big-green-festive-meet-up/
LOCATION:Town Hall\, Christchurch Street West\, Frome\, BA11 1EB
ORGANIZER;CN="Sustainable Frome":MAILTO:info@sustainablefrome.org.uk
END:VEVENT
BEGIN:VEVENT
DTSTART;TZID=UTC:20231126T193000
DTEND;TZID=UTC:20231126T213000
DTSTAMP:20260419T232000
CREATED:20231003T095541Z
LAST-MODIFIED:20231003T100452Z
UID:2501-1701027000-1701034200@sustainablefrome.org.uk
SUMMARY:The Life Cycle: exploring biodiversity on Kate Rawles’ 8\,000 mile bike ride
DESCRIPTION:‘For me\, the question has become not so much what to do as how to be’ \nFormer university lecturer turned eco-adventurer\, Kate Rawles\, cycled the length of South America on a bamboo bike she built herself. En route she explored biodiversity: what it is\, what’s happening to it and why losing it amounts to as great a threat as climate change. Join us to hear about the brilliant and brave activists Kate met; the highs and lows of the journey; and above all\, what we can do. \nTickets: £6 in advance here\, or £8 on the door
URL:https://sustainablefrome.org.uk/event/the-life-cycle-exploring-biodiversity-on-kate-rawles-8000-mile-bike-ride/
ATTACH;FMTTYPE=image/png:https://sustainablefrome.org.uk/wp-content/uploads/2023/10/thelifecycle-final-lowres.png
ORGANIZER;CN="Sustainable Frome":MAILTO:info@sustainablefrome.org.uk
END:VEVENT
BEGIN:VEVENT
DTSTART;TZID=UTC:20231113T200000
DTEND;TZID=UTC:20231113T210000
DTSTAMP:20260419T232000
CREATED:20231110T102805Z
LAST-MODIFIED:20231110T211812Z
UID:2530-1699905600-1699909200@sustainablefrome.org.uk
SUMMARY:Frome FM radio show
DESCRIPTION:The edition will hear about the framework for a new town council strategy and a town-wide explorations of Donut economics ; biodiversity and Wild about Frome; and more \n  \nListen on 96.6FM around Frome\, or online at frome.fm online\, or on your smart speaker. \nBroadcast on the 2nd Monday of every month\, with previous shows available on Mixcloud:\nhttps://www.mixcloud.com/FromeFM/playlists/sustainable-frome-fm/
URL:https://sustainablefrome.org.uk/event/frome-fm-radio-show-dec2023/
LOCATION:frome.fm
CATEGORIES:radio
END:VEVENT
BEGIN:VEVENT
DTSTART;TZID=UTC:20231102T190000
DTEND;TZID=UTC:20231102T210000
DTSTAMP:20260419T232000
CREATED:20230829T144429Z
LAST-MODIFIED:20230829T144429Z
UID:2491-1698951600-1698958800@sustainablefrome.org.uk
SUMMARY:Sustainable Frome November meeting
DESCRIPTION:Details coming soon … \nJoin us at the Good Heart for shared food from 7pm. The meeting will start at 7.30pm
URL:https://sustainablefrome.org.uk/event/sustainable-frome-november-meeting-2/
LOCATION:The Good Heart\, 7 Palmer Street\, Frome\, BA11 1DS\, United Kingdom
ORGANIZER;CN="Sustainable Frome":MAILTO:info@sustainablefrome.org.uk
END:VEVENT
BEGIN:VEVENT
DTSTART;TZID=UTC:20231029T100000
DTEND;TZID=UTC:20231029T150000
DTSTAMP:20260419T232000
CREATED:20231005T153956Z
LAST-MODIFIED:20231005T153956Z
UID:2507-1698573600-1698591600@sustainablefrome.org.uk
SUMMARY:Pumpkin Day\, Harvest Swap and Food Festival
DESCRIPTION:Part harvest swap\, part hyperlocal food market\, and part eating festival\, the event will be full of inspiration around how climate and health can be used in food and in growing. \nThere will be workshops\, talks\, kids’ activities\, community groups and a communal eating experience in the Cheese & Grain cafe\, featuring a 10-mile menu. \nFrome Field 2 Fork\, Frome Food Network and Future Shed Frome (Green and Healthy Partnership) are working in partnership on this year’s Pumpkin Day. \nEntry by donation: £3 adults. Free for kids\, OAPS\, low-waged and students \nIf you would like a stall please contact Caroline Wajsblum on 07857437608 asap\, as space is limited and will be allocated on a first come first served basis
URL:https://sustainablefrome.org.uk/event/pumpkin-day-harvest-swap-and-food-festival/
LOCATION:Cheese and Grain\, Market Yard\, Frome\, BA11 1BE
ATTACH;FMTTYPE=image/jpeg:https://sustainablefrome.org.uk/wp-content/uploads/2023/10/pumpkin_day_2023.jpg
END:VEVENT
BEGIN:VEVENT
DTSTART;TZID=UTC:20231017T190000
DTEND;TZID=UTC:20231017T190000
DTSTAMP:20260419T232000
CREATED:20231005T154843Z
LAST-MODIFIED:20231005T154843Z
UID:2510-1697569200-1697569200@sustainablefrome.org.uk
SUMMARY:The Recent Independent History of Frome
DESCRIPTION:Do you want to know more about the recent ‘independent history’ of Frome? \nWould you like to hear directly from some of the people who have helped build the foundations for this town being an inspiring place to live? \nThen this is your chance to join the dots between then and now. Maybe you’ve recently moved to Frome and want to learn about what has gone before. Or maybe you just want to hear a story or two again. \nCome to this informal evening chat with some of those who helped change Frome’s Green\, Political and Artistic offerings over the last 30 years. \nAnnabelle Macfadyen\, Peter Macfadyen\, Katy Duke\, Cordelia Rowlatt\, Chris Smaje & Sheila Gore will set the scene and share how it started\, and what happened. The chat will be facilitated by Future Shed Lead Sue Palmer\, with plenty of time for questions and discussion. \nLimited number of tickets available — Book your place HERE
URL:https://sustainablefrome.org.uk/event/the-recent-independent-history-of-frome/
LOCATION:Welsh Mill Hub\, Park Hill Drive\, Frome\, BA11 2LE
END:VEVENT
BEGIN:VEVENT
DTSTART;TZID=UTC:20231005T190000
DTEND;TZID=UTC:20231005T210000
DTSTAMP:20260419T232000
CREATED:20230829T144341Z
LAST-MODIFIED:20230829T144341Z
UID:2490-1696532400-1696539600@sustainablefrome.org.uk
SUMMARY:Sustainable Frome October meeting
DESCRIPTION:Details coming soon … \nJoin us at the Good Heart for shared food from 7pm. The meeting will start at 7.30pm
URL:https://sustainablefrome.org.uk/event/sustainable-frome-october-meeting/
LOCATION:The Good Heart\, 7 Palmer Street\, Frome\, BA11 1DS\, United Kingdom
ORGANIZER;CN="Sustainable Frome":MAILTO:info@sustainablefrome.org.uk
END:VEVENT
BEGIN:VEVENT
DTSTART;TZID=UTC:20230907T190000
DTEND;TZID=UTC:20230907T210000
DTSTAMP:20260419T232000
CREATED:20230829T144040Z
LAST-MODIFIED:20230904T142719Z
UID:2487-1694113200-1694120400@sustainablefrome.org.uk
SUMMARY:Sustainable Frome September meeting
DESCRIPTION:Planning Meeting\nVarious organisers and representatives from Green and Healthy Frome will be attending to discuss Sustainable Frome’s role as a coordinating hub for all sustainability / green / climate activities / campaigns / groups in Frome to make sure there is no duplication or wasted efforts. How can Sustainable Frome best fulfil that role? \nJoin us at the Good Heart for shared food* from 7pm. The meeting will start at 7.30pm \n*You can either bring food to share OR contact Namdi in advance to order your curry – 07908 139244.
URL:https://sustainablefrome.org.uk/event/sustainable-frome-september-meeting/
LOCATION:The Good Heart\, 7 Palmer Street\, Frome\, BA11 1DS\, United Kingdom
CATEGORIES:Next meeting
ORGANIZER;CN="Sustainable Frome":MAILTO:info@sustainablefrome.org.uk
END:VEVENT
BEGIN:VEVENT
DTSTART;TZID=UTC:20230803T190000
DTEND;TZID=UTC:20230803T210000
DTSTAMP:20260419T232001
CREATED:20230731T135314Z
LAST-MODIFIED:20230731T135314Z
UID:2483-1691089200-1691096400@sustainablefrome.org.uk
SUMMARY:Sustainable Frome Picnic\, August 2023
DESCRIPTION:Picnic in Rodden Meadow\, at the town end near Willow Vale\, from 7pm \nAll welcome — Bring food to share if you can
URL:https://sustainablefrome.org.uk/event/sustainable-frome-picnic-august-2023/
LOCATION:Rodden Meadow\, Frome
CATEGORIES:Next meeting
ORGANIZER;CN="Sustainable Frome":MAILTO:info@sustainablefrome.org.uk
END:VEVENT
BEGIN:VEVENT
DTSTART;TZID=UTC:20230719T183000
DTEND;TZID=UTC:20230719T210000
DTSTAMP:20260419T232001
CREATED:20230705T093415Z
LAST-MODIFIED:20230705T093415Z
UID:2477-1689791400-1689800400@sustainablefrome.org.uk
SUMMARY:Frome's action on climate & biodiversity
DESCRIPTION:In 2019 Frome declared a climate emergency and held public events to create a town action plan. \nCome and find out how we are doing as a community\, the projects that are already happening and how we can speed up our progress to becoming a greener\, healthier and more resilient town. \nFree light vegan supper included. \n>> Book your free ticket
URL:https://sustainablefrome.org.uk/event/fromes-action-on-climate-biodiversity/
LOCATION:Frome Town Football Club\, Berkley Road\, Frome\, BA11 2EH
END:VEVENT
BEGIN:VEVENT
DTSTART;TZID=UTC:20230706T190000
DTEND;TZID=UTC:20230706T210000
DTSTAMP:20260419T232001
CREATED:20230705T091633Z
LAST-MODIFIED:20230705T091633Z
UID:2471-1688670000-1688677200@sustainablefrome.org.uk
SUMMARY:Sustainable Frome July get-together and AGM
DESCRIPTION:Our usual monthly get-together plus our AGM \n7pm for shared food\, 7.30 for meeting.\nYou can order food from Good Heart before 6pm\, or bring your own.
URL:https://sustainablefrome.org.uk/event/sustainable-frome-july-get-together-and-agm/
LOCATION:The Good Heart\, 7 Palmer Street\, Frome\, BA11 1DS\, United Kingdom
ORGANIZER;CN="Sustainable Frome":MAILTO:info@sustainablefrome.org.uk
END:VEVENT
BEGIN:VEVENT
DTSTART;TZID=UTC:20230629T180000
DTEND;TZID=UTC:20230629T213000
DTSTAMP:20260419T232001
CREATED:20230627T101607Z
LAST-MODIFIED:20230627T103250Z
UID:2463-1688061600-1688074200@sustainablefrome.org.uk
SUMMARY:From One Footprint: Charity Fundraiser for the Pachamama Alliance
DESCRIPTION:Exploring what happens when we take steps towards what we care about. Can one footprint imprint on our collective consciousness? \nIncludes the film premiere in Frome of Walking on Thin Ice and food from the delicious Lungi Babas. Eat together\, learn together! \nIf you can’t make the event please consider donating to this important charity\, the Pachamama Alliance\, that works with indigenous tribes\, climate justice\, protection of the Amazon and raising global consciousness. https://www.justgiving.com/page/madeleine-breathing-amazon \n  \nTimings (approx) \n18.00 Doors Open \n18.15 Film premiere and discussion – Jenny Shackleford \n19.00 Community meal (included with ticket) from Lungi Babas and Talk – Katherine Needles \n19.45 Film and talk – Kelly Roberts \n20.30 Talk & discussion – Madeleine Mauwer \n  \nTicket by Donation – all talks and food included – suggestion £9-£21 depending on what you feel able to afford  >> Get tickets here >> \nOpportunity to purchase artwork from Katherine Needles.
URL:https://sustainablefrome.org.uk/event/from-one-footprint-charity-fundraiser-for-the-pachamana-alliance/
LOCATION:The Awesome Studio\, Station Approach\, Frome\, BA11 1RE\, United Kingdom
ATTACH;FMTTYPE=image/jpeg:https://sustainablefrome.org.uk/wp-content/uploads/2023/06/7361315960165487911.jpeg
END:VEVENT
BEGIN:VEVENT
DTSTART;TZID=UTC:20230615T183000
DTEND;TZID=UTC:20230615T210000
DTSTAMP:20260419T232001
CREATED:20230606T163929Z
LAST-MODIFIED:20230606T163929Z
UID:2456-1686853800-1686862800@sustainablefrome.org.uk
SUMMARY:Great Big Green Summer Meet Up in Victoria Park
DESCRIPTION:As part of Great Big Green Week and together with Green & Healthy Frome we’re hosting a Great Big Green Summer Meet-up in Victoria Park. \nThis will be a chance to get together and celebrate all the wonderful green and sustainable initiatives happening in Frome\, find out what everyone is up to and make new connections. The emphasis will be on socialising and sharing\, rather than a structured meeting. \nJoin us for a bring-your-own picnic with a free vegan ice cream for everyone who books a free ticket. \nThe new community café at Victoria Park will also stay open this evening for refreshments. \nThere will be a gazebo and tables set up for anyone wanting to bring leaflets or display materials to share information about their projects. \nBook your free place (and your free vegan ice cream!) here. \n 
URL:https://sustainablefrome.org.uk/event/great-big-green-summer-meet-up-in-victoria-park/
LOCATION:Victoria Park\, Frome\, BA11 1EY
ORGANIZER;CN="Sustainable Frome":MAILTO:info@sustainablefrome.org.uk
END:VEVENT
BEGIN:VEVENT
DTSTART;TZID=UTC:20230613T190000
DTEND;TZID=UTC:20230613T203000
DTSTAMP:20260419T232001
CREATED:20230607T091754Z
LAST-MODIFIED:20230607T091754Z
UID:2460-1686682800-1686688200@sustainablefrome.org.uk
SUMMARY:DIRT! The Movie
DESCRIPTION:Sustainable Frome present DIRT! The Movie. \nNarrated by Jamie Lee Curtis the film brings to life the environmental\, economic\, social and political impact that the soil has. It shares the stories of experts from all over the world who study and are able to harness the beauty and power of a respectful and mutually beneficial relationship with soil. \nBut more than the film and the lessons that it teaches\, DIRT! The Movie is a call to action. “When humans arrived 2 million years ago\, everything changed for dirt. And from that moment on\, the fate of dirt and humans has been intimately linked.” \nHow can you affect that relationship for the better? \nRefreshments available. \n>> Book your free ticket here >> \nPart of Great Big Green Week 2023.
URL:https://sustainablefrome.org.uk/event/dirt-the-movie/
LOCATION:Town Hall\, Christchurch Street West\, Frome\, BA11 1EB
ORGANIZER;CN="Sustainable Frome":MAILTO:info@sustainablefrome.org.uk
END:VEVENT
BEGIN:VEVENT
DTSTART;TZID=UTC:20230504T190000
DTEND;TZID=UTC:20230504T210000
DTSTAMP:20260419T232001
CREATED:20230406T164156Z
LAST-MODIFIED:20230430T135902Z
UID:2446-1683226800-1683234000@sustainablefrome.org.uk
SUMMARY:Sustainable Frome May meeting: Green and Healthy Frome update
DESCRIPTION:Green and Healthy Frome – Future Plans – Action\, Opportunities and Benefits\nGreen and Healthy Frome aims to help the people of Frome live green and healthy lives. After a two year trial they now have a substantial grant from the National Lottery’s Climate Action Fund to carry the project forward. \nAt this month’s meeting\, project manager and Future Shed Lead Sue Palmer\, Resilience Manager Nikki Brain\, and others from the GHF team\, will share the plans that have been funded and the opportunities for groups\, projects and people to get involved and benefit from the programme. \nJoin us at the Good Heart for shared food from 7pm. The meeting will start at 7.30pm
URL:https://sustainablefrome.org.uk/event/sustainable-frome-may-meeting-green-and-healthy-future-update/
LOCATION:The Good Heart\, 7 Palmer Street\, Frome\, BA11 1DS\, United Kingdom
ORGANIZER;CN="Sustainable Frome":MAILTO:info@sustainablefrome.org.uk
END:VEVENT
BEGIN:VEVENT
DTSTART;TZID=UTC:20230406T190000
DTEND;TZID=UTC:20230406T210000
DTSTAMP:20260419T232001
CREATED:20230404T105322Z
LAST-MODIFIED:20230404T105709Z
UID:2443-1680807600-1680814800@sustainablefrome.org.uk
SUMMARY:Sustainable Frome April meeting
DESCRIPTION:A general planning meeting\, open to all. \nJoin us at the Good Heart for shared food from 7pm. The meeting will start at 7.30pm
URL:https://sustainablefrome.org.uk/event/sustainable-frome-april-meeting/
LOCATION:The Good Heart\, 7 Palmer Street\, Frome\, BA11 1DS\, United Kingdom
CATEGORIES:Next meeting
ORGANIZER;CN="Sustainable Frome":MAILTO:info@sustainablefrome.org.uk
END:VEVENT
END:VCALENDAR