BEGIN:VCALENDAR
VERSION:2.0
PRODID:-//Sustainable Frome - ECPv6.15.17.1//NONSGML v1.0//EN
CALSCALE:GREGORIAN
METHOD:PUBLISH
X-WR-CALNAME:Sustainable Frome
X-ORIGINAL-URL:https://sustainablefrome.org.uk
X-WR-CALDESC:Events for Sustainable Frome
REFRESH-INTERVAL;VALUE=DURATION:PT1H
X-Robots-Tag:noindex
X-PUBLISHED-TTL:PT1H
BEGIN:VTIMEZONE
TZID:UTC
BEGIN:STANDARD
TZOFFSETFROM:+0000
TZOFFSETTO:+0000
TZNAME:UTC
DTSTART:20180101T000000
END:STANDARD
END:VTIMEZONE
BEGIN:VEVENT
DTSTART;VALUE=DATE:20190415
DTEND;VALUE=DATE:20190429
DTSTAMP:20260423T031402
CREATED:20190404T120747Z
LAST-MODIFIED:20190404T120747Z
UID:982-1555286400-1556495999@sustainablefrome.org.uk
SUMMARY:Extinction Rebellion: International  Rebellion
DESCRIPTION:“This is an emergency. We have less than 12 years \nOur way of life is breaking the natural world. \nOur leaders have failed us. \nOn 15 April we are calling for a full-scale Rebellion to demand decisive action from governments on climate change and ecological collapse. \nLearn more about our demands and values here:\nwww.rebellion.earth \nUnder our current system\, we are headed for disaster. Catastrophic climate change will kill millions\, cause food collapse\, and render many more homeless. Mass extinction of wild species will lead to ecological collapse. Destruction of natural habitats will lead to genocide of indigenous peoples and the loss of our planet’s life support systems. \nIt’s not too late to change course – a better future is possible. But governments are consistently failing to take the urgent and decisive action that will save us. If the system will not change\, then we must change the system. It is our sacred duty to rebel in order to protect our homes\, our future\, and the future of all life on Earth. \nHundreds of groups have organised and taken action in countries and communities throughout the world. Find and join a group organising near you: \nhttps://www.google.com/maps/d/u/0/viewer?mid=11jUqqjTHMThksd4KbvGGzb3I3Cr3PkBl&hl=en_US&ll=1.0869518268472491%2C152.0719527&z=1 \nIf there isn’t one yet\, start it. Bring together those who will rise up\, and together defend a vision for a better world and a brighter future – one where life matters. \nThere is no greater cause than to protect life on this planet\, our only home.”
URL:https://sustainablefrome.org.uk/event/extinction-rebellion-international-rebellion/
END:VEVENT
BEGIN:VEVENT
DTSTART;VALUE=DATE:20190412
DTEND;VALUE=DATE:20190413
DTSTAMP:20260423T031402
CREATED:20190320T180940Z
LAST-MODIFIED:20190320T180940Z
UID:973-1555027200-1555113599@sustainablefrome.org.uk
SUMMARY:Extinction Rebellion Rebel Riders pass through Frome
DESCRIPTION:Rebel Riders of the Ecopocalypse on their bikes are converging on London from all over the UK to spread the word and take part in the Extinction Rebellion week of action starting 15th April 2019. \nThey will be passing through Frome on the 12th April. \nVisit https://xr-rebelriders.uk/home/ for more information\, maps\, etc.
URL:https://sustainablefrome.org.uk/event/extinction-rebellion-rebel-riders-pass-through-frome/
END:VEVENT
BEGIN:VEVENT
DTSTART;TZID=UTC:20190410T190000
DTEND;TZID=UTC:20190410T210000
DTSTAMP:20260423T031402
CREATED:20190331T163836Z
LAST-MODIFIED:20190331T163836Z
UID:978-1554922800-1554930000@sustainablefrome.org.uk
SUMMARY:XR Frome planning meeting
DESCRIPTION:For all those coming to London\, these meetings are essential to be fully prepared for whatever may happen. We will be covering topics such as Knowing your rights and other legal matters; Non-Violent Communication & Deescalation skills\, Shared signals when in confrontation with police\, etc.
URL:https://sustainablefrome.org.uk/event/xr-frome-planning-meeting-2/
LOCATION:Town Hall\, Christchurch Street West\, Frome\, BA11 1EB
ORGANIZER;CN="Extinction Rebellion Frome":MAILTO:extinctionrebellionfrome@gmail.com
END:VEVENT
BEGIN:VEVENT
DTSTART;TZID=UTC:20190406T090000
DTEND;TZID=UTC:20190406T140000
DTSTAMP:20260423T031402
CREATED:20190128T114704Z
LAST-MODIFIED:20190128T114704Z
UID:854-1554541200-1554559200@sustainablefrome.org.uk
SUMMARY:Vegan Market
DESCRIPTION:Now bi-monthly!\nStalls featuring vegan food\, drinks\, clothing\, homewares\, advice and information.\nFREE ADMISSION\n2019 dates: 2 Feb\, 6 Apr\, 1 Jun\, 3 Aug\, 5 Oct\, 7 Dec
URL:https://sustainablefrome.org.uk/event/vegan-market-2/
LOCATION:Cheese and Grain\, Market Yard\, Frome\, BA11 1BE
END:VEVENT
BEGIN:VEVENT
DTSTART;TZID=UTC:20190404T190000
DTEND;TZID=UTC:20190404T210000
DTSTAMP:20260423T031402
CREATED:20190320T175528Z
LAST-MODIFIED:20190426T105333Z
UID:968-1554404400-1554411600@sustainablefrome.org.uk
SUMMARY:Sustainable Frome Monthly Meeting
DESCRIPTION:How can Sustainable Frome complement and support the work of Extinction Rebellion while providing alternative ways for people to help the cause without getting arrested? \nA lot of attention and energy is now going into Extinction Rebellion\, so what is the role of Sustainable Frome? XR have decided that ‘conventional campaigning has not been effective enough’ and so have moved up a gear to non violent direct action. BUT\, its vital that all the other actions continue as well. XR on its own could be written off as a few extremists\, and needs to be backed up by local practical actions\, letters to MPs etc. We need to be hitting them form all directions\, in as many different ways as possible. \nAs usual we will start with shared food at 7pm — please bring some veggie / vegan food to share if you would like to join in — then move on to notices and the main meeting from about 7.30pm
URL:https://sustainablefrome.org.uk/event/sustainable-frome-monthly-meeting-2/
LOCATION:The Good Heart\, 7 Palmer Street\, Frome\, BA11 1DS\, United Kingdom
ORGANIZER;CN="Sustainable Frome":MAILTO:info@sustainablefrome.org.uk
END:VEVENT
BEGIN:VEVENT
DTSTART;TZID=UTC:20190403T190000
DTEND;TZID=UTC:20190403T210000
DTSTAMP:20260423T031402
CREATED:20190331T163706Z
LAST-MODIFIED:20190331T163706Z
UID:976-1554318000-1554325200@sustainablefrome.org.uk
SUMMARY:XR Frome planning meeting
DESCRIPTION:For all those coming to London\, these meetings are essential to be fully prepared for whatever may happen. We will be covering topics such as Knowing your rights and other legal matters; Non-Violent Communication & Deescalation skills\, Shared signals when in confrontation with police\, etc. \n 
URL:https://sustainablefrome.org.uk/event/xr-frome-planning-meeting/
LOCATION:Rye Bakery\, Whittox Lane\, Frome\, BA11 3BY
ORGANIZER;CN="Extinction Rebellion Frome":MAILTO:extinctionrebellionfrome@gmail.com
END:VEVENT
BEGIN:VEVENT
DTSTART;VALUE=DATE:20190331
DTEND;VALUE=DATE:20190401
DTSTAMP:20260423T031402
CREATED:20190320T174623Z
LAST-MODIFIED:20190320T174843Z
UID:964-1553990400-1554076799@sustainablefrome.org.uk
SUMMARY:Extinction Rebellion Earth March passes through Frome
DESCRIPTION:The Extinction Rebellion Earth Marches will be happening all across the country and converge in London for the Rebellion Day on the 15th of April. The one from Lands End will pass through Frome on the 31st March. \nYou can sign up\, just tag along or offer hospitality to the marchers as they pass through Frome. \nVisit https://rebellionearth.uk/ for more information\, maps\, etc.
URL:https://sustainablefrome.org.uk/event/extinction-rebellion-earth-march-passes-through-frome/
END:VEVENT
BEGIN:VEVENT
DTSTART;TZID=UTC:20190328T190000
DTEND;TZID=UTC:20190328T220000
DTSTAMP:20260423T031402
CREATED:20190302T174307Z
LAST-MODIFIED:20190302T174307Z
UID:934-1553799600-1553810400@sustainablefrome.org.uk
SUMMARY:Somerset Wildlife presents: Cuckoos and Corncrakes
DESCRIPTION:A lively and entertaining fundraising evening that will literally open your ears to the fascinating world of birdsong\, brought to you by well- known Tweet of the Day authors Brett Westwood and Stephen Moss. Proceeds from ticket sales go directly to the Somerset Wildlife Trust.
URL:https://sustainablefrome.org.uk/event/somerset-wildlife-presents-cuckoos-and-corncrakes/
LOCATION:Cheese and Grain\, Market Yard\, Frome\, BA11 1BE
END:VEVENT
BEGIN:VEVENT
DTSTART;TZID=UTC:20190328T190000
DTEND;TZID=UTC:20190328T190000
DTSTAMP:20260423T031402
CREATED:20190320T173919Z
LAST-MODIFIED:20190320T174202Z
UID:960-1553799600-1553799600@sustainablefrome.org.uk
SUMMARY:Solar Streets Project Launch
DESCRIPTION:Local  solar installer IDDEA\, is working with Frome Renewable Energy Co-op (FRECo) and Frome Town Council to offer significantly discounted solar for Frome households. All they need is for at least 10 households to sign up in Frome to cut the cost from £6000 to £3750 each. The evening will explain the installation process and outline some new techniques and technologies which maximise the savings from the panels.
URL:https://sustainablefrome.org.uk/event/solar-streets-project-launch/
LOCATION:Town Hall\, Christchurch Street West\, Frome\, BA11 1EB
END:VEVENT
BEGIN:VEVENT
DTSTART;TZID=UTC:20190324T140000
DTEND;TZID=UTC:20190324T173000
DTSTAMP:20260423T031402
CREATED:20190304T175933Z
LAST-MODIFIED:20190304T180113Z
UID:944-1553436000-1553448600@sustainablefrome.org.uk
SUMMARY:Non-Violent Direct Action training
DESCRIPTION:Extinction Rebellion Frome is organising a free training session for anyone who wants to get involved in the national Rebellion Week (15 – 20th April 2019) activities or local events to draw attention to the climate crisis we are facing. It covers what non-violent direct action (NVDA) is and how it works in practice\, looking how to remain calm when others are losing their temper\, how to communicate with the police\, the legal implications of actions\, and how to work within your own personal limits. \nMore info soon\, but in the meantime\, if interested please contact Helen Johnstone (helenjohnstone@yahoo.com).
URL:https://sustainablefrome.org.uk/event/non-violent-direct-action-training/
LOCATION:Town Hall\, Christchurch Street West\, Frome\, BA11 1EB
ORGANIZER;CN="Extinction Rebellion Frome":MAILTO:extinctionrebellionfrome@gmail.com
END:VEVENT
BEGIN:VEVENT
DTSTART;TZID=UTC:20190323T200000
DTEND;TZID=UTC:20190323T230000
DTSTAMP:20260423T031402
CREATED:20190320T173324Z
LAST-MODIFIED:20190320T173324Z
UID:955-1553371200-1553382000@sustainablefrome.org.uk
SUMMARY:Big Green Gig: Benefit for East Mendip Green Party.
DESCRIPTION:For one night only at 23 Bath St\, you’ll have the chance to see some of Frome’s finest musicians playing a set of classic protest songs plus surprises\, raising money for the East Mendip Green Party.
URL:https://sustainablefrome.org.uk/event/big-green-gig-benefit-for-east-mendip-green-party/
LOCATION:23 Bath St\, 23 Bath St\, Frome\, BA11 1DJ
END:VEVENT
BEGIN:VEVENT
DTSTART;TZID=UTC:20190321T183000
DTEND;TZID=UTC:20190321T210000
DTSTAMP:20260423T031402
CREATED:20190302T173932Z
LAST-MODIFIED:20190320T171954Z
UID:932-1553193000-1553202000@sustainablefrome.org.uk
SUMMARY:Extinction Rebellion Frome General Meeting
DESCRIPTION:On the week of April 15th – 21st\, Extinction Rebellion plans to create maximum sustained disruption in capital cities all over the world. To participate in this Non Violent Direct Action XR Frome will be forming Affinity Action Groups of around 8-12 people. These can provide a high degree of trust\, mutual cooperation\, flexibility and protection.
URL:https://sustainablefrome.org.uk/event/extinction-rebellion-frome-general-meeting/
LOCATION:Town Hall\, Christchurch Street West\, Frome\, BA11 1EB
ORGANIZER;CN="Extinction Rebellion Frome":MAILTO:extinctionrebellionfrome@gmail.com
END:VEVENT
BEGIN:VEVENT
DTSTART;VALUE=DATE:20190316
DTEND;VALUE=DATE:20190318
DTSTAMP:20260423T031402
CREATED:20190304T103239Z
LAST-MODIFIED:20190304T103239Z
UID:942-1552694400-1552867199@sustainablefrome.org.uk
SUMMARY:Extinction Rebellion Bristol Spring Uprising
DESCRIPTION:Extinction Rebellion are throwing a 3000 person Indoor XR festival\, featuring music\, art\, talks\, food\, exhibitions\, and mass NVDA training. \nCost: £12.50 single day\, £20/ £40 weekend. \nMuch more information at https://www.springuprising.com/about.html
URL:https://sustainablefrome.org.uk/event/extinction-rebellion-bristol-spring-uprising/
END:VEVENT
BEGIN:VEVENT
DTSTART;VALUE=DATE:20190315
DTEND;VALUE=DATE:20190316
DTSTAMP:20260423T031402
CREATED:20190128T123812Z
LAST-MODIFIED:20190128T123812Z
UID:868-1552608000-1552694399@sustainablefrome.org.uk
SUMMARY:Global Youth Strike 4 Climate
DESCRIPTION:Worldwide student strike to protest against climate inaction \nThere have been escalating young people’s school strikes across the globe\, with tens of thousands coming onto the streets to demand action to stop global warming and environmental destruction.\nAll have been inspired by Greta Thunberg who began a solo climate protest by striking from school in Sweden in August 2018. Since then\, thousands of school students around the world have joined her. The school strikes have spread to at least 270 towns and cities in countries across the world\, including Australia\, the United Kingdom\, Belgium\, Switzerland\, Germany\, the US\, Canada and Japan.
URL:https://sustainablefrome.org.uk/event/global-youth-strike-4-climate/
END:VEVENT
BEGIN:VEVENT
DTSTART;TZID=UTC:20190313T191500
DTEND;TZID=UTC:20190313T191500
DTSTAMP:20260423T031402
CREATED:20190211T105712Z
LAST-MODIFIED:20190302T173719Z
UID:892-1552504500-1552504500@sustainablefrome.org.uk
SUMMARY:The Climate Crisis - heading for extinction and what to do about it - a talk by Professor Colin Davis
DESCRIPTION:Extinction Rebellion Frome presents a talk by Professor Colin Davis: The Climate Crisis – heading for extinction and what to do about it. \nThe latest science on accelerating climate change\, the psychology involved\, and some solutions from the study of social movements\, as exemplified by the rapidly growing Extinction Rebellion\, which aims to use non violent direct action.
URL:https://sustainablefrome.org.uk/event/the-climate-crisis-heading-for-extinction-and-what-to-do-about-it-a-talk-by-professor-colin-davis/
LOCATION:Town Hall\, Christchurch Street West\, Frome\, BA11 1EB
ORGANIZER;CN="Extinction Rebellion Frome":MAILTO:extinctionrebellionfrome@gmail.com
END:VEVENT
BEGIN:VEVENT
DTSTART;TZID=UTC:20190310T110000
DTEND;TZID=UTC:20190310T170000
DTSTAMP:20260423T031402
CREATED:20190304T101521Z
LAST-MODIFIED:20190304T101521Z
UID:938-1552215600-1552237200@sustainablefrome.org.uk
SUMMARY:Extinction Rebellion Legal Observer Training
DESCRIPTION:Extinction Rebellion are running one of their hard-to-find Legal Observer training sessions in Stroud on\nSunday 10th March\, 11am – 5pm\, at the Springhill Cohousing Community\, 16 Springhill. \nIf you are interested please contact Helen Johnstone (helenjohnstone@yahoo.com) asap.
URL:https://sustainablefrome.org.uk/event/extinction-rebellion-legal-observer-training/
LOCATION:Springhill Cohousing Community\, 16 Springhill\, Stroud\, GL5 1TN
END:VEVENT
BEGIN:VEVENT
DTSTART;TZID=UTC:20190307T190000
DTEND;TZID=UTC:20190307T190000
DTSTAMP:20260423T031402
CREATED:20190302T172755Z
LAST-MODIFIED:20190320T175129Z
UID:927-1551985200-1551985200@sustainablefrome.org.uk
SUMMARY:Sustainable Frome Monthly Meeting for March
DESCRIPTION:No particular subject. We can discuss anything people want to bring up. \nAs usual\, please bring vegetarian / vegan food to share from 7pm\, or join us later for the meeting.
URL:https://sustainablefrome.org.uk/event/sustainable-frome-monthly-meeting-for-march/
LOCATION:The Good Heart\, 7 Palmer Street\, Frome\, BA11 1DS\, United Kingdom
ORGANIZER;CN="Sustainable Frome":MAILTO:info@sustainablefrome.org.uk
END:VEVENT
BEGIN:VEVENT
DTSTART;TZID=UTC:20190306T183000
DTEND;TZID=UTC:20190306T183000
DTSTAMP:20260423T031402
CREATED:20190302T172219Z
LAST-MODIFIED:20190302T172219Z
UID:925-1551897000-1551897000@sustainablefrome.org.uk
SUMMARY:Frome Extinction Rebellion Social
DESCRIPTION:
URL:https://sustainablefrome.org.uk/event/frome-extinction-rebellion-social/
LOCATION:Rye Bakery\, Whittox Lane\, Frome\, BA11 3BY
ORGANIZER;CN="Extinction Rebellion Frome":MAILTO:extinctionrebellionfrome@gmail.com
END:VEVENT
BEGIN:VEVENT
DTSTART;TZID=UTC:20190305T193000
DTEND;TZID=UTC:20190305T193000
DTSTAMP:20260423T031402
CREATED:20190302T171519Z
LAST-MODIFIED:20190302T172003Z
UID:920-1551814200-1551814200@sustainablefrome.org.uk
SUMMARY:Architecture Club: Two Wheel Revolution
DESCRIPTION:Two Wheel Revolution: Making Cycling Work. \nJoin engineer Jess Read and behaviour-change specialist Sam Robinson to look at the physical and virtual innovations helping to drive a cycling revolution. More info here \nDoors at 7pm for 7.30pm start
URL:https://sustainablefrome.org.uk/event/two-wheel-revolution-making-cycling-work/
LOCATION:Rook Lane Chapel\, Bath Street\, Frome\, BA11 1DN
END:VEVENT
BEGIN:VEVENT
DTSTART;TZID=UTC:20190301T190000
DTEND;TZID=UTC:20190301T190000
DTSTAMP:20260423T031402
CREATED:20190118T122521Z
LAST-MODIFIED:20190128T145008Z
UID:845-1551466800-1551466800@sustainablefrome.org.uk
SUMMARY:Film: The Bentley Effect
DESCRIPTION:A film showing by Mutual Aid Frome. Delicious refreshments by the Scrummy Vegan Cake Cooperative.\nEntry and refreshments by donation; Profits to UK anti-fracking camps.\n“The fight against fracking needed a hero and 10\,000 people put their hands up”\nWatch the trailer here:  http://youtu.be/EKs2aKIxIs4
URL:https://sustainablefrome.org.uk/event/film-showing-the-bentley-effect/
LOCATION:Town Hall\, Christchurch Street West\, Frome\, BA11 1EB
END:VEVENT
BEGIN:VEVENT
DTSTART;TZID=UTC:20190301T173000
DTEND;TZID=UTC:20190303T210000
DTSTAMP:20260423T031402
CREATED:20190211T081816Z
LAST-MODIFIED:20190211T082021Z
UID:894-1551461400-1551646800@sustainablefrome.org.uk
SUMMARY:Window Wanderland
DESCRIPTION:This community event is back for a second year and with your help they hope to transform the streets into a magical outdoor gallery again for all to enjoy!\n\n5.30pm – 9.00pm\, Fri 1st March – Sun 3rd March\n\nFor more information and to take part\, visit https://www.windowwanderland.com/event/frome-2019/\n\n\n\, 
URL:https://sustainablefrome.org.uk/event/window-wanderland/
END:VEVENT
BEGIN:VEVENT
DTSTART;TZID=UTC:20190218T191500
DTEND;TZID=UTC:20190218T191500
DTSTAMP:20260423T031402
CREATED:20190211T080554Z
LAST-MODIFIED:20190211T080554Z
UID:890-1550517300-1550517300@sustainablefrome.org.uk
SUMMARY:The Brutal Logic of Climate Change: Finding Courage in the Climate Crisis - a talk by Dr Aaron Thierry
DESCRIPTION:Extinction Rebellion present a talk by Dr Aaron Thierry: The Brutal Logic of Climate Change: Finding Courage in the Climate Crisis. More information and link to buy tickets at https://www.facebook.com/events/2356984431192013/
URL:https://sustainablefrome.org.uk/event/the-brutal-logic-of-climate-change-finding-courage-in-the-climate-crisis-a-talk-by-dr-aaron-thierry/
LOCATION:Town Hall\, Christchurch Street West\, Frome\, BA11 1EB
ORGANIZER;CN="Extinction Rebellion Frome":MAILTO:extinctionrebellionfrome@gmail.com
END:VEVENT
BEGIN:VEVENT
DTSTART;TZID=UTC:20190216T100000
DTEND;TZID=UTC:20190216T150000
DTSTAMP:20260423T031402
CREATED:20190206T145848Z
LAST-MODIFIED:20190206T145848Z
UID:881-1550311200-1550329200@sustainablefrome.org.uk
SUMMARY:Saxonvale: Initial development proposals
DESCRIPTION:Following a successful public consultation last month\, Acorn Property Group will present the initial development proposals for the regeneration of the Saxonvale site in Frome. \nMore than 600 people attended the first consultation to give their views and aspirations for the 10-acre former industrial site which has helped shape the development plans. \nThe second consultation will be held on the 15th and 16th February at The Silk Mill in Frome\, after which Acorn will work with Nash architects to finalise plans for the site with a view to submitting a planning application in spring 2019. \nRobin Squire\, Regional Managing Director at Acorn’s Bristol office commented\, “Hearing from such a large number and wide variety of local residents and stakeholders has been hugely useful. We’d like to thank all those who came along in January to let us know what they’d like to see delivered at Saxonvale. The comments have helped us design our initial proposals and we are looking forward to further discussing the future of this important town centre site.” \nFriday 15 February 2pm-7pm and Saturday 16 February 10am-3pm
URL:https://sustainablefrome.org.uk/event/saxonvale-initial-development-proposals-2/
LOCATION:The Silk Mill\, Merchants Barton\, Frome\, BA11 1PT
END:VEVENT
BEGIN:VEVENT
DTSTART;TZID=UTC:20190215T140000
DTEND;TZID=UTC:20190215T190000
DTSTAMP:20260423T031402
CREATED:20190206T145725Z
LAST-MODIFIED:20190206T145725Z
UID:879-1550239200-1550257200@sustainablefrome.org.uk
SUMMARY:Saxonvale: Initial development proposals
DESCRIPTION:Following a successful public consultation last month\, Acorn Property Group will present the initial development proposals for the regeneration of the Saxonvale site in Frome. \nMore than 600 people attended the first consultation to give their views and aspirations for the 10-acre former industrial site which has helped shape the development plans. \nThe second consultation will be held on the 15th and 16th February at The Silk Mill in Frome\, after which Acorn will work with Nash architects to finalise plans for the site with a view to submitting a planning application in spring 2019. \nRobin Squire\, Regional Managing Director at Acorn’s Bristol office commented\, “Hearing from such a large number and wide variety of local residents and stakeholders has been hugely useful. We’d like to thank all those who came along in January to let us know what they’d like to see delivered at Saxonvale. The comments have helped us design our initial proposals and we are looking forward to further discussing the future of this important town centre site.” \nFriday 15 February 2pm-7pm and Saturday 16 February 10am-3pm
URL:https://sustainablefrome.org.uk/event/saxonvale-initial-development-proposals/
LOCATION:The Silk Mill\, Merchants Barton\, Frome\, BA11 1PT
END:VEVENT
BEGIN:VEVENT
DTSTART;VALUE=DATE:20190215
DTEND;VALUE=DATE:20190216
DTSTAMP:20260423T031402
CREATED:20190128T123620Z
LAST-MODIFIED:20190128T123620Z
UID:866-1550188800-1550275199@sustainablefrome.org.uk
SUMMARY:UK-wide Youth Strike 4 Climate
DESCRIPTION:UK wide student strike to protest against climate inaction\, with a global strike on Friday 15th March. \nThere have been escalating young people’s school strikes across the globe\, with tens of thousands coming onto the streets to demand action to stop global warming and environmental destruction.\nAll have been inspired by Greta Thunberg who began a solo climate protest by striking from school in Sweden in August 2018. Since then\, thousands of school students around the world have joined her. The school strikes have spread to at least 270 towns and cities in countries across the world\, including Australia\, the United Kingdom\, Belgium\, Switzerland\, Germany\, the US\, Canada and Japan.
URL:https://sustainablefrome.org.uk/event/uk-wide-youth-strike-4-climate/
END:VEVENT
BEGIN:VEVENT
DTSTART;TZID=UTC:20190214T193000
DTEND;TZID=UTC:20190214T193000
DTSTAMP:20260423T031402
CREATED:20190211T080015Z
LAST-MODIFIED:20190211T080015Z
UID:888-1550172600-1550172600@sustainablefrome.org.uk
SUMMARY:Green Speed Dating/Networking
DESCRIPTION:An opportunity to put names to faces and meet the many people in Frome involved in environmental and social justice campaigning who are trying to make our world a better place. As well as updates from each group there will be lots of 2 min ‘dates’\, sorry networking\, for people to ask and answer a few questions and get to know each other.\nUpstairs at the Cheese and Grain
URL:https://sustainablefrome.org.uk/event/green-speed-dating-networking/
LOCATION:Cheese and Grain\, Market Yard\, Frome\, BA11 1BE
END:VEVENT
BEGIN:VEVENT
DTSTART;TZID=UTC:20190214T120000
DTEND;TZID=UTC:20190214T120000
DTSTAMP:20260423T031402
CREATED:20190211T083743Z
LAST-MODIFIED:20190211T083852Z
UID:898-1550145600-1550145600@sustainablefrome.org.uk
SUMMARY:Extinction Rebellion Valentine's Day Action
DESCRIPTION:Come together with love for nature on Valentine’s Day. The Extinction Rebellion choir will lead a parade – meet us at the market fountain from midday\, preferably wearing something red or pink!
URL:https://sustainablefrome.org.uk/event/extinction-rebellion-valentines-day-action/
ORGANIZER;CN="Extinction Rebellion Frome":MAILTO:extinctionrebellionfrome@gmail.com
END:VEVENT
BEGIN:VEVENT
DTSTART;TZID=UTC:20190212T103000
DTEND;TZID=UTC:20190212T140000
DTSTAMP:20260423T031402
CREATED:20190211T075803Z
LAST-MODIFIED:20190211T075803Z
UID:886-1549967400-1549980000@sustainablefrome.org.uk
SUMMARY:Discover Frome Conference
DESCRIPTION:A free conference for anyone who has a business directly or indirectly related to tourism in Frome – ie. for  hoteliers\, b’n’b owners\, pub\, cafe and restaurant proprietors\, transport providers\, retailers\, managers of venues\, in fact anyone who will benefit from having a thriving tourist scene in the town. More information at https://www.discoverfrome.co.uk/event/discover-frome-visitor-conference/
URL:https://sustainablefrome.org.uk/event/discover-frome-conference/
LOCATION:Town Hall\, Christchurch Street West\, Frome\, BA11 1EB
END:VEVENT
BEGIN:VEVENT
DTSTART;TZID=UTC:20190210T150000
DTEND;TZID=UTC:20190210T170000
DTSTAMP:20260423T031402
CREATED:20190206T144141Z
LAST-MODIFIED:20190206T144634Z
UID:875-1549810800-1549818000@sustainablefrome.org.uk
SUMMARY:Repair and Upcycle Cafe
DESCRIPTION:Remakery:Frome and SHARE – A Library of Things invite you to their monthly get-together of making and mending!\n\nBring along your broken items and our volunteer fixers will help you get them back in good shape if they can. It’s free\, but please book your place in advance: https://www.eventbrite.co.uk/e/share-repair-and-upcycling-cafe-february-2019-tickets-54844755139
URL:https://sustainablefrome.org.uk/event/repair-and-upcycle-cafe/
LOCATION:Welsh Mill Hub\, Park Hill Drive\, Frome\, BA11 2LE
END:VEVENT
BEGIN:VEVENT
DTSTART;TZID=UTC:20190207T190000
DTEND;TZID=UTC:20190207T190000
DTSTAMP:20260423T031402
CREATED:20190128T120819Z
LAST-MODIFIED:20190302T172328Z
UID:864-1549566000-1549566000@sustainablefrome.org.uk
SUMMARY:Sustainable Frome Monthly Meeting: Preparing for Brexit
DESCRIPTION:With the government stockpiling medicine and more\, if we crash out of the EU there is clearly the potential for significant disruption to all sorts of things that we have come to take for granted. Although it is beyond our resources plug gaps that may happen in our community\, one thing that we can do is look for ways to come together.\nA film about what happened when the economy collapsed in Argentina in 2003\, and how people turned to each other in mutual support\, will be followed by a discussion.\nLed by Mike Grenville
URL:https://sustainablefrome.org.uk/event/sustainable-frome-monthly-meeting-preparing-for-brexit/
LOCATION:The Good Heart\, 7 Palmer Street\, Frome\, BA11 1DS\, United Kingdom
ORGANIZER;CN="Sustainable Frome":MAILTO:info@sustainablefrome.org.uk
END:VEVENT
END:VCALENDAR