BEGIN:VCALENDAR
VERSION:2.0
PRODID:-//Sustainable Frome - ECPv6.15.17.1//NONSGML v1.0//EN
CALSCALE:GREGORIAN
METHOD:PUBLISH
X-WR-CALNAME:Sustainable Frome
X-ORIGINAL-URL:https://sustainablefrome.org.uk
X-WR-CALDESC:Events for Sustainable Frome
REFRESH-INTERVAL;VALUE=DURATION:PT1H
X-Robots-Tag:noindex
X-PUBLISHED-TTL:PT1H
BEGIN:VTIMEZONE
TZID:UTC
BEGIN:STANDARD
TZOFFSETFROM:+0000
TZOFFSETTO:+0000
TZNAME:UTC
DTSTART:20210101T000000
END:STANDARD
END:VTIMEZONE
BEGIN:VEVENT
DTSTART;TZID=UTC:20221206T190000
DTEND;TZID=UTC:20221206T210000
DTSTAMP:20260420T053644
CREATED:20221030T182213Z
LAST-MODIFIED:20221030T182213Z
UID:2384-1670353200-1670360400@sustainablefrome.org.uk
SUMMARY:Frome’s Green & Festive Meet-Up
DESCRIPTION:You’re invited to a free evening of food and socialising\, open to anyone involved in Frome’s environment and climate groups: the Climate Action Group\, Sustainable Frome\, Future Shed\, Frome Families for the Future\, and Green Community Connectors. \nThe meet-up will offer a chance to relax and celebrate the achievements of the past 12 months\, and look forward to 2023 and how all our groups can work together on green projects. \nFrom the annual Seed Swap and Potato Day\, another successful Great Big Green Week\, to the creation of the Frome Textile Network\, the amazing work of the Wild Bunch in wilding gardens\, and a successful climate and health conference in Frome- there is a lot to celebrate and look back on over the past year. We can also cook up some plans for 2023. \nFree food made by Lungi Babas at 7pm. Plus mince pies.\nBook in here (by Sunday 4 December latest so we know numbers to cater for).
URL:https://sustainablefrome.org.uk/event/fromes-green-festive-meet-up/
LOCATION:Town Hall\, Christchurch Street West\, Frome\, BA11 1EB
END:VEVENT
BEGIN:VEVENT
DTSTART;TZID=UTC:20221203T100000
DTEND;TZID=UTC:20221203T130000
DTSTAMP:20260420T053644
CREATED:20221030T183244Z
LAST-MODIFIED:20221030T183244Z
UID:2386-1670061600-1670072400@sustainablefrome.org.uk
SUMMARY:Tech Amnesty drop-off
DESCRIPTION:It is estimated that every household is hoarding 5 or more pieces of IT\, from old smartphones\, laptops\, PCs to tablets\, they’re sitting gathering dust\, but many are still viable pieces of tech which could be repurposed for someone who needs it. DonateIT\, supported by Frome Medical Practice (Health Connections team) and Frome Town Council\, are running a Tech Amnesty on Saturday 3rd December from 10am – 1pm in the car park of the Town Hall. They are asking residents and businesses to pop by with their unused tech so it can be repurposed to find a new home. \nMore details here
URL:https://sustainablefrome.org.uk/event/tech-amnesty-drop-off/
LOCATION:Town Hall\, Christchurch Street West\, Frome\, BA11 1EB
END:VEVENT
BEGIN:VEVENT
DTSTART;TZID=UTC:20221030T100000
DTEND;TZID=UTC:20221030T140000
DTSTAMP:20260420T053644
CREATED:20221005T102733Z
LAST-MODIFIED:20221005T102733Z
UID:2373-1667124000-1667138400@sustainablefrome.org.uk
SUMMARY:Pumpkin Day and Halloween Harvest Swap
DESCRIPTION:Autumn version of the much loved Potato Day and Seed Swap… with everything you need to get gardening over the Autumn and Winter and some tasty examples of locally produced food. A Gardeners Market\, plants\, seeds\, local foods and workshops to feed the mind\, Pumpkin Carving (donation for the pumpkin) and Halloween Actvities for the kids and adults . . . . . and an opportunity to bring your excess harvest to swap or share with our growing community. \nPlease bring your own harvests to swap including… \n\nFresh Fruit and Veggies\nDried Fruit and Veggies\nJams\nPreserves and Pickles\nSaved Seeds\nPlants\nFlowers\nHerbs\nRecipes\nPlant Wisdom and Stories\n\nSTALLS AVAILABLE \nThere are still a few places left for stalls or halloween activities at this event please contact fromefield2fork@gmail.com if you would like a stall. Local food producers\, gardening clubs\, community organisations\, arts and crafts\, facepainter… all welcome. £40 for commercial and £20 for community organisations. Please share.
URL:https://sustainablefrome.org.uk/event/pumpkin-day-and-halloween-harvest-swap/
LOCATION:Cheese and Grain\, Market Yard\, Frome\, BA11 1BE
ATTACH;FMTTYPE=image/jpeg:https://sustainablefrome.org.uk/wp-content/uploads/2022/10/pumpkin_day.jpg
END:VEVENT
BEGIN:VEVENT
DTSTART;TZID=UTC:20221028T183000
DTEND;TZID=UTC:20221028T193000
DTSTAMP:20260420T053644
CREATED:20220802T154230Z
LAST-MODIFIED:20220802T154230Z
UID:2331-1666981800-1666985400@sustainablefrome.org.uk
SUMMARY:Monthly Critical Mass bike ride
DESCRIPTION:A monthly mass bike ride in Frome inspired by the Critical Mass rides celebrated once a month across the world. The purpose is to highlight the presence of bikes in Frome and have some fun. \nLast Friday of every month. Meet @ 6.30 at the Cheese and Grain. Ride will last about an hour. \nAll welcome; family friendly \n 
URL:https://sustainablefrome.org.uk/event/monthly-critical-mass-bike-ride-4/
LOCATION:Cheese and Grain\, Market Yard\, Frome\, BA11 1BE
ATTACH;FMTTYPE=image/jpeg:https://sustainablefrome.org.uk/wp-content/uploads/2022/04/critcal_mass.jpeg
END:VEVENT
BEGIN:VEVENT
DTSTART;TZID=UTC:20221006T190000
DTEND;TZID=UTC:20221006T210000
DTSTAMP:20260420T053644
CREATED:20220913T131553Z
LAST-MODIFIED:20221005T101446Z
UID:2356-1665082800-1665090000@sustainablefrome.org.uk
SUMMARY:Sustainable Frome October meeting: Home Energy
DESCRIPTION:Jo Morris\, Resilience Officer at Frome Town Council\, will be here to explain how to get financial help with improving your home’s energy efficiency\, outlining the various loans and grants available for insulation\, solar panels\, heat pumps\, etc. \nJoin us at the Good Heart for shared food from 7pm and the meeting proper from 7.30pm \n 
URL:https://sustainablefrome.org.uk/event/sustainable-frome-october-meeting-organising-meeting/
LOCATION:The Good Heart\, 7 Palmer Street\, Frome\, BA11 1DS\, United Kingdom
CATEGORIES:Next meeting
ORGANIZER;CN="Sustainable Frome":MAILTO:info@sustainablefrome.org.uk
END:VEVENT
BEGIN:VEVENT
DTSTART;TZID=UTC:20220930T183000
DTEND;TZID=UTC:20220930T193000
DTSTAMP:20260420T053644
CREATED:20220802T154136Z
LAST-MODIFIED:20220802T154136Z
UID:2332-1664562600-1664566200@sustainablefrome.org.uk
SUMMARY:Monthly Critical Mass bike ride
DESCRIPTION:A monthly mass bike ride in Frome inspired by the Critical Mass rides celebrated once a month across the world. The purpose is to highlight the presence of bikes in Frome and have some fun. \nLast Friday of every month. Meet @ 6.30 at the Cheese and Grain. Ride will last about an hour. \nAll welcome; family friendly \n 
URL:https://sustainablefrome.org.uk/event/monthly-critical-mass-bike-ride-3/
LOCATION:Cheese and Grain\, Market Yard\, Frome\, BA11 1BE
ATTACH;FMTTYPE=image/jpeg:https://sustainablefrome.org.uk/wp-content/uploads/2022/04/critcal_mass.jpeg
END:VEVENT
BEGIN:VEVENT
DTSTART;TZID=UTC:20220913T190000
DTEND;TZID=UTC:20220913T213000
DTSTAMP:20260420T053644
CREATED:20220901T122107Z
LAST-MODIFIED:20220901T122107Z
UID:2346-1663095600-1663104600@sustainablefrome.org.uk
SUMMARY:Motherload (film screening)
DESCRIPTION:As part of Great Big Green Week\, Sustainable Frome presents Motherload – a crowdsourced documentary in which the cargo bicycle becomes a vehicle for exploring motherhood in this digital age of climate change. \nThe film follows director and new mother Liz Canning on her quest to understand the increasing tension between modern life and our hunter-gatherer DNA\, and how cargo bikes offer a solution. \nRefreshments available.
URL:https://sustainablefrome.org.uk/event/motherload-film-screening/
LOCATION:Town Hall\, Christchurch Street West\, Frome\, BA11 1EB
ATTACH;FMTTYPE=image/png:https://sustainablefrome.org.uk/wp-content/uploads/2022/09/MotheloadBikeLogo2.png
ORGANIZER;CN="Sustainable Frome":MAILTO:info@sustainablefrome.org.uk
END:VEVENT
BEGIN:VEVENT
DTSTART;VALUE=DATE:20220911
DTEND;VALUE=DATE:20220919
DTSTAMP:20260420T053644
CREATED:20220809T114308Z
LAST-MODIFIED:20220809T115302Z
UID:2338-1662854400-1663545599@sustainablefrome.org.uk
SUMMARY:Frome's Great Big Green Week 2022
DESCRIPTION:11th – 18th September sees Frome’s  second Great Big Green Week\, which will see a host of events celebrating how the Frome community is taking action to tackle climate change and protect our green spaces. \nA nationwide event\, The Great Big Green Week is a platform to celebrate our green spaces and highlight the action Frome is taking to tackle climate change. \nBrowse the programme and book tickets >>
URL:https://sustainablefrome.org.uk/event/fromes-great-big-green-week-2022/
LOCATION:Throughout Frome\, Frome
ATTACH;FMTTYPE=image/png:https://sustainablefrome.org.uk/wp-content/uploads/2022/08/GBGW-2022-banner.png
END:VEVENT
BEGIN:VEVENT
DTSTART;TZID=UTC:20220901T190000
DTEND;TZID=UTC:20220901T210000
DTSTAMP:20260420T053644
CREATED:20220901T121623Z
LAST-MODIFIED:20220901T121623Z
UID:2342-1662058800-1662066000@sustainablefrome.org.uk
SUMMARY:Sustainable Frome September meeting: Great Big Green Week
DESCRIPTION:We’ll be talking about the up-coming Great Big Green Week\, including the film we’re screening: Motherload. \nJoin us for shared food from 7pm and the meeting proper from 7.30pm\, at the newly-refurbished Good Heart. \n 
URL:https://sustainablefrome.org.uk/event/sustainable-frome-september-meeting-great-big-green-week/
LOCATION:The Good Heart\, 7 Palmer Street\, Frome\, BA11 1DS\, United Kingdom
CATEGORIES:Next meeting
ORGANIZER;CN="Sustainable Frome":MAILTO:info@sustainablefrome.org.uk
END:VEVENT
BEGIN:VEVENT
DTSTART;TZID=UTC:20220826T183000
DTEND;TZID=UTC:20220826T193000
DTSTAMP:20260420T053644
CREATED:20220802T154058Z
LAST-MODIFIED:20220802T154058Z
UID:2330-1661538600-1661542200@sustainablefrome.org.uk
SUMMARY:Monthly Critical Mass bike ride
DESCRIPTION:A monthly mass bike ride in Frome inspired by the Critical Mass rides celebrated once a month across the world. The purpose is to highlight the presence of bikes in Frome and have some fun. \nLast Friday of every month. Meet @ 6.30 at the Cheese and Grain. Ride will last about an hour. \nAll welcome; family friendly \n 
URL:https://sustainablefrome.org.uk/event/monthly-critical-mass-bike-ride-2/
LOCATION:Cheese and Grain\, Market Yard\, Frome\, BA11 1BE
ATTACH;FMTTYPE=image/jpeg:https://sustainablefrome.org.uk/wp-content/uploads/2022/04/critcal_mass.jpeg
END:VEVENT
BEGIN:VEVENT
DTSTART;TZID=UTC:20220804T190000
DTEND;TZID=UTC:20220804T210000
DTSTAMP:20260420T053644
CREATED:20220802T152943Z
LAST-MODIFIED:20220802T153013Z
UID:2326-1659639600-1659646800@sustainablefrome.org.uk
SUMMARY:Sustainable Frome August meeting: Summer Gathering
DESCRIPTION:Picnic at Weylands\nShare some food and chat. \nHead along to Weylands\, near the recently-planted trees. Bring some picnic food to share\, and some water for the trees! \nFrom 7pm. \n 
URL:https://sustainablefrome.org.uk/event/sustainable-frome-august-meeting-summer-gathering/
CATEGORIES:Next meeting
ORGANIZER;CN="Sustainable Frome":MAILTO:info@sustainablefrome.org.uk
END:VEVENT
BEGIN:VEVENT
DTSTART;TZID=UTC:20220729T183000
DTEND;TZID=UTC:20220729T193000
DTSTAMP:20260420T053644
CREATED:20220503T084442Z
LAST-MODIFIED:20220503T085126Z
UID:2306-1659119400-1659123000@sustainablefrome.org.uk
SUMMARY:Monthly Critical Mass bike ride
DESCRIPTION:A monthly mass bike ride in Frome inspired by the Critical Mass rides celebrated once a month across the world. The purpose is to highlight the presence of bikes in Frome and have some fun. \nLast Friday of every month. Meet @ 6.30 at the Cheese and Grain. Ride will last about an hour. \nAll welcome; family friendly \n 
URL:https://sustainablefrome.org.uk/event/monthly-critical-mass-bike-ride/
LOCATION:Cheese and Grain\, Market Yard\, Frome\, BA11 1BE
ATTACH;FMTTYPE=image/jpeg:https://sustainablefrome.org.uk/wp-content/uploads/2022/04/critcal_mass.jpeg
END:VEVENT
BEGIN:VEVENT
DTSTART;TZID=UTC:20220707T190000
DTEND;TZID=UTC:20220707T210000
DTSTAMP:20260420T053644
CREATED:20220706T164203Z
LAST-MODIFIED:20220706T164203Z
UID:2322-1657220400-1657227600@sustainablefrome.org.uk
SUMMARY:Sustainable Frome July meeting
DESCRIPTION:Social and planning:\nCatch up with everyone over some shared food and help plan the next few months. \nThe meeting will start at 7.30pm\, but come early to share food and chat: bring something veggie/vegan to share from 7pm.
URL:https://sustainablefrome.org.uk/event/sustainable-frome-july-meeting-2/
LOCATION:The Good Heart\, 7 Palmer Street\, Frome\, BA11 1DS\, United Kingdom
CATEGORIES:Next meeting
ORGANIZER;CN="Sustainable Frome":MAILTO:info@sustainablefrome.org.uk
END:VEVENT
BEGIN:VEVENT
DTSTART;TZID=UTC:20220624T183000
DTEND;TZID=UTC:20220624T193000
DTSTAMP:20260420T053644
CREATED:20220408T125443Z
LAST-MODIFIED:20220503T085135Z
UID:2291-1656095400-1656099000@sustainablefrome.org.uk
SUMMARY:Monthly Critical Mass bike ride
DESCRIPTION:A monthly mass bike ride in Frome inspired by the Critical Mass rides celebrated once a month across the world. The purpose is to highlight the presence of bikes in Frome and have some fun. \nLast Friday of every month. Meet @ 6.30 at the Cheese and Grain. Ride will last about an hour. \nAll welcome; family friendly \n 
URL:https://sustainablefrome.org.uk/event/monthly-mass-bike-ride-3/
LOCATION:Cheese and Grain\, Market Yard\, Frome\, BA11 1BE
ATTACH;FMTTYPE=image/jpeg:https://sustainablefrome.org.uk/wp-content/uploads/2022/04/critcal_mass.jpeg
END:VEVENT
BEGIN:VEVENT
DTSTART;VALUE=DATE:20220618
DTEND;VALUE=DATE:20220619
DTSTAMP:20260420T053644
CREATED:20220227T161018Z
LAST-MODIFIED:20220227T161018Z
UID:2267-1655510400-1655596799@sustainablefrome.org.uk
SUMMARY:Green Breather Day #2
DESCRIPTION:Frome’s Green Breather Days will be launching in May to help cut air pollution in the town centre and to encourage people to explore how these spaces could be used as a new public area. The Green Breather Days will be a series of Saturdays between May and September where Frome’s town centre is pedestrianized\, encouraging people to explore the town centre by foot\, boost support for local businesses and reduce Frome’s air pollution. \nMore info >>
URL:https://sustainablefrome.org.uk/event/green-breather-day-2/
LOCATION:Town Centre\, BA11
ATTACH;FMTTYPE=image/png:https://sustainablefrome.org.uk/wp-content/uploads/2022/02/green-breather-image-cropped-Frome-2030-1920x680-1.png
END:VEVENT
BEGIN:VEVENT
DTSTART;TZID=UTC:20220602T190000
DTEND;TZID=UTC:20220602T210000
DTSTAMP:20260420T053644
CREATED:20220524T103551Z
LAST-MODIFIED:20220524T103551Z
UID:2312-1654196400-1654203600@sustainablefrome.org.uk
SUMMARY:Sustainable Frome June meeting: Who Feeds Frome?
DESCRIPTION:Who Feeds Frome?\nwith Hugh Thomas\nThe report\, ‘Who Feeds Frome’ has just been published. Commissioned by FTC\, with many contributors\, written by local food writer and campaigner\, Hugh Thomas\, it explores the challenges and possibilities of a small town’s food system\, particularly the many and varied local producers; how can we make the best use of them? \nThe talk and meeting will start at 7.30pm\, but come early to share food and chat: bring something veggie/vegan to share from 7pm.
URL:https://sustainablefrome.org.uk/event/sustainable-frome-june-meeting-who-feeds-frome/
LOCATION:The Good Heart\, 7 Palmer Street\, Frome\, BA11 1DS\, United Kingdom
ORGANIZER;CN="Sustainable Frome":MAILTO:info@sustainablefrome.org.uk
END:VEVENT
BEGIN:VEVENT
DTSTART;TZID=UTC:20220527T183000
DTEND;TZID=UTC:20220527T193000
DTSTAMP:20260420T053644
CREATED:20220408T125411Z
LAST-MODIFIED:20220503T085144Z
UID:2289-1653676200-1653679800@sustainablefrome.org.uk
SUMMARY:Monthly Critical Mass bike ride
DESCRIPTION:A monthly mass bike ride in Frome inspired by the Critical Mass rides celebrated once a month across the world. The purpose is to highlight the presence of bikes in Frome and have some fun. \nLast Friday of every month. Meet @ 6.30 at the Cheese and Grain. Ride will last about an hour. \nAll welcome; family friendly \n 
URL:https://sustainablefrome.org.uk/event/monthly-mass-bike-ride-2/
LOCATION:Cheese and Grain\, Market Yard\, Frome\, BA11 1BE
ATTACH;FMTTYPE=image/jpeg:https://sustainablefrome.org.uk/wp-content/uploads/2022/04/critcal_mass.jpeg
END:VEVENT
BEGIN:VEVENT
DTSTART;VALUE=DATE:20220521
DTEND;VALUE=DATE:20220522
DTSTAMP:20260420T053644
CREATED:20220227T155949Z
LAST-MODIFIED:20220227T160729Z
UID:2262-1653091200-1653177599@sustainablefrome.org.uk
SUMMARY:Green Breather Day #1
DESCRIPTION:Frome’s Green Breather Days will be launching in May to help cut air pollution in the town centre and to encourage people to explore how these spaces could be used as a new public area. The Green Breather Days will be a series of Saturdays between May and September where Frome’s town centre is pedestrianized\, encouraging people to explore the town centre by foot\, boost support for local businesses and reduce Frome’s air pollution. \nMore info >>
URL:https://sustainablefrome.org.uk/event/green-breather-day-1/
LOCATION:Town Centre\, BA11
ATTACH;FMTTYPE=image/png:https://sustainablefrome.org.uk/wp-content/uploads/2022/02/green-breather-image-cropped-Frome-2030-1920x680-1.png
END:VEVENT
BEGIN:VEVENT
DTSTART;TZID=UTC:20220505T190000
DTEND;TZID=UTC:20220505T210000
DTSTAMP:20260420T053644
CREATED:20220427T083702Z
LAST-MODIFIED:20220502T170619Z
UID:2294-1651777200-1651784400@sustainablefrome.org.uk
SUMMARY:Sustainable Frome May meeting: The Inner Development Goals plus AGM
DESCRIPTION:The Inner Development Goals\, with Jez Lefevre\nThe United Nations’ Sustainable Development Goals are the blueprint to achieve a better and more sustainable future for all. They address the global challenges we face\, including poverty\, inequality\, climate change\, environmental degradation\, peace and justice. The Inner Development Goals address what abilities\, skills and qualities people and organisations need to push these goals forward. \nThe meeting will also incorporate an AGM with a brief statement of our finances\, directors\,  review of our role and achievements\, etc. This is open to everyone\, especially if you would like to get more involved with helping to sustain Sustainable Frome. \nCome early to share food and chat: bring something veggie/vegan to share from 7pm. The meeting proper will start at 7.30pm
URL:https://sustainablefrome.org.uk/event/sustainable-frome-may-meeting-tbc/
LOCATION:The Good Heart\, 7 Palmer Street\, Frome\, BA11 1DS\, United Kingdom
CATEGORIES:Next meeting
ORGANIZER;CN="Sustainable Frome":MAILTO:info@sustainablefrome.org.uk
END:VEVENT
BEGIN:VEVENT
DTSTART;TZID=UTC:20220429T183000
DTEND;TZID=UTC:20220429T193000
DTSTAMP:20260420T053644
CREATED:20220408T125319Z
LAST-MODIFIED:20220408T125319Z
UID:2286-1651257000-1651260600@sustainablefrome.org.uk
SUMMARY:Monthly mass bike ride
DESCRIPTION:A monthly mass bike ride in Frome inspired by the Critical Mass rides celebrated once a month across the world. the purpose to highlight the presence of bikes in Frome and have some fun. \nLast Friday of every month. Meet @ 6.30 at the Cheese and Grain. Ride will last about an hour. \nAll welcome; family friendly \n 
URL:https://sustainablefrome.org.uk/event/monthly-mass-bike-ride/
LOCATION:Cheese and Grain\, Market Yard\, Frome\, BA11 1BE
ATTACH;FMTTYPE=image/jpeg:https://sustainablefrome.org.uk/wp-content/uploads/2022/04/critcal_mass.jpeg
END:VEVENT
BEGIN:VEVENT
DTSTART;TZID=UTC:20220410T100000
DTEND;TZID=UTC:20220410T150000
DTSTAMP:20260420T053644
CREATED:20220406T151534Z
LAST-MODIFIED:20220406T151534Z
UID:2284-1649584800-1649602800@sustainablefrome.org.uk
SUMMARY:Frome Vegan Fair
DESCRIPTION:Whether you already live a plant-based lifestyle or you’re simply interested in why plant-based living has become so popular\, Frome Vegan Fair will be showcasing a number of traders ranging from food\, drink\, cruelty free cosmetics through to clothing\, gifts and accessories. You may even pick up some tips on making your own delicious recipes or advice on how you can maintain your health. \nThe family event will also feature cooking demos\, talks\, free tasters and children’s activities! \nThe popular Vegan Fair event will open from 10.00am – 3.00pm \nEntry: £2.00\n(Under 14s free when accompanied by an adult.) \nVisit the event’s Facebook page for more information and to check event is still going ahead.  
URL:https://sustainablefrome.org.uk/event/frome-vegan-fair/
LOCATION:Cheese and Grain\, Market Yard\, Frome\, BA11 1BE
END:VEVENT
BEGIN:VEVENT
DTSTART;TZID=UTC:20220407T190000
DTEND;TZID=UTC:20220407T210000
DTSTAMP:20260420T053644
CREATED:20220404T132209Z
LAST-MODIFIED:20220427T083726Z
UID:2278-1649358000-1649365200@sustainablefrome.org.uk
SUMMARY:Sustainable Frome April meeting: Who Feeds Frome?
DESCRIPTION:Who Feeds Frome?\nwith Hugh Thomas\nThe report\, ‘Who Feeds Frome’ has just been published. Commissioned by FTC\, with many contributors\, written by local food writer and campaigner\, Hugh Thomas\, it explores the challenges and possibilities of a small town’s food system\, particularly the many and varied local producers; how can we make the best use of them? \nThe talk and meeting will start at 7.30pm\, but come early to share food and chat: bring something veggie/vegan to share from 7pm.
URL:https://sustainablefrome.org.uk/event/sustainable-frome-april-meeting-who-feeds-frome/
LOCATION:The Good Heart\, 7 Palmer Street\, Frome\, BA11 1DS\, United Kingdom
ORGANIZER;CN="Sustainable Frome":MAILTO:info@sustainablefrome.org.uk
END:VEVENT
BEGIN:VEVENT
DTSTART;TZID=UTC:20220406T190000
DTEND;TZID=UTC:20220406T190000
DTSTAMP:20260420T053644
CREATED:20220404T133225Z
LAST-MODIFIED:20220404T133225Z
UID:2281-1649271600-1649271600@sustainablefrome.org.uk
SUMMARY:Westdown Quarry Campaign\, next steps
DESCRIPTION:Launch of the next stage of the campaign to stop the reopening and expansion of the Westdown Quarry and save Asham Woods. Find out about the next steps in the action plan\, website\, social media\, press\, survey and refreshed petition.
URL:https://sustainablefrome.org.uk/event/westdown-quarry-campaign-next-steps/
LOCATION:Rook Lane Chapel\, Bath Street\, Frome\, BA11 1DN
END:VEVENT
BEGIN:VEVENT
DTSTART;VALUE=DATE:20220301
DTEND;VALUE=DATE:20220307
DTSTAMP:20260420T053644
CREATED:20220129T131414Z
LAST-MODIFIED:20220129T131650Z
UID:2239-1646092800-1646611199@sustainablefrome.org.uk
SUMMARY:Frome Kindness Festival
DESCRIPTION:Kindness is something we all need and can offer to others. It has proven benefits for our mental and physical health and plays a big part in making Frome a decent place to live and grow up in. \nAfter a tough couple of years\, the team at The Good Heart in Palmer Street has had the idea of curating a week of events that will help us all to: \n\nappreciate and celebrate the kindness that already exists in Frome\nenjoy a range of events and activities together as winter comes to a close\nrecognize and develop our natural capacity for kindness\nlearn more about the power of kindness to strengthen our community and wellbeing\n\nMore details to follow. For now\, save the date and get involved \n 
URL:https://sustainablefrome.org.uk/event/frome-kindness-festival/
LOCATION:Throughout Frome\, Frome
ATTACH;FMTTYPE=image/png:https://sustainablefrome.org.uk/wp-content/uploads/2022/01/FKF-Logo-with-date.png
END:VEVENT
BEGIN:VEVENT
DTSTART;TZID=UTC:20220220T100000
DTEND;TZID=UTC:20220220T140000
DTSTAMP:20260420T053644
CREATED:20220127T114402Z
LAST-MODIFIED:20220130T173748Z
UID:2231-1645351200-1645365600@sustainablefrome.org.uk
SUMMARY:Potato Day and Seed Swap 2022
DESCRIPTION:Please call 07857437608 or email incredibleediblefrome@gmail.com if you would like to volunteer on the day
URL:https://sustainablefrome.org.uk/event/potato-day-and-seed-swap-2/
LOCATION:Cheese and Grain\, Market Yard\, Frome\, BA11 1BE
ATTACH;FMTTYPE=image/png:https://sustainablefrome.org.uk/wp-content/uploads/2022/01/seedswap.png
END:VEVENT
BEGIN:VEVENT
DTSTART;TZID=UTC:20220210T180000
DTEND;TZID=UTC:20220210T193000
DTSTAMP:20260420T053644
CREATED:20220130T170857Z
LAST-MODIFIED:20220130T172227Z
UID:2248-1644516000-1644521400@sustainablefrome.org.uk
SUMMARY:Green Breather Days: Consultation
DESCRIPTION:Green Breather Days will be a series of Saturdays between May and September where Frome’s town centre is pedestrianised\, encouraging people to explore the town centre by foot\, boost support for local businesses and reduce Frome’s air pollution. \nThe Town Council are keen to hear how this might affect businesses operating in the town centre in order to ensure that businesses are disrupted to a minimum\, and invite anyone affected and/or interested to a meeting to discuss the Green Breather Days at a meeting which you can join online or in person at the Town Hall. \nMore details here.
URL:https://sustainablefrome.org.uk/event/green-breather-days-consultation/
LOCATION:Town Hall\, Christchurch Street West\, Frome\, BA11 1EB
END:VEVENT
BEGIN:VEVENT
DTSTART;TZID=UTC:20220203T193000
DTEND;TZID=UTC:20220203T193000
DTSTAMP:20260420T053644
CREATED:20220130T164856Z
LAST-MODIFIED:20220130T164856Z
UID:2244-1643916600-1643916600@sustainablefrome.org.uk
SUMMARY:Sustainable Frome Febuary meeting
DESCRIPTION:This will be another ‘Room-n-Zoom’ meeting. Either join in person at the Good Heart Cafe or online using the Zoom link in the recent newsletter. \nNo particular subject – we meet every month\, sometimes with a theme or presentation\, sometimes not!
URL:https://sustainablefrome.org.uk/event/sustainable-frome-febuary-meeting/
LOCATION:The Good Heart\, 7 Palmer Street\, Frome\, BA11 1DS\, United Kingdom
CATEGORIES:Next meeting
ORGANIZER;CN="Sustainable Frome":MAILTO:info@sustainablefrome.org.uk
END:VEVENT
BEGIN:VEVENT
DTSTART;TZID=UTC:20220203T190000
DTEND;TZID=UTC:20220203T200000
DTSTAMP:20260420T053644
CREATED:20220130T170007Z
LAST-MODIFIED:20220130T170145Z
UID:2246-1643914800-1643918400@sustainablefrome.org.uk
SUMMARY:Plastic Free. Period. -- Launch and workshop
DESCRIPTION:Launch of a new project to promote sustainable and plastic free menstrual products\, organised by Frome Town Council and Frome Medical Practice. Starting with the free workshop\, at the Town Hall and online\, with representatives from Women’s Environmental Network giving information and advice. \nMore information around the subject and how to join the workshop can be found here.
URL:https://sustainablefrome.org.uk/event/plastic-free-period-launch-and-workshop/
LOCATION:Town Hall\, Christchurch Street West\, Frome\, BA11 1EB
END:VEVENT
BEGIN:VEVENT
DTSTART;TZID=UTC:20220125T190000
DTEND;TZID=UTC:20220125T190000
DTSTAMP:20260420T053644
CREATED:20220105T170254Z
LAST-MODIFIED:20220105T170254Z
UID:2225-1643137200-1643137200@sustainablefrome.org.uk
SUMMARY:Climate Action Group first meeting
DESCRIPTION:Frome Town Council is launching a Climate Action Group. It will be an informal advisory group\, developing\, influencing and implementing projects that help to reduce Frome’s carbon footprint and to restore biodiversity. The plan is to meet four times a year\, and the first meeting will be held online on 25th January. \nIn 2019\, a consultation of 150 Frome residents helped to form the Climate Action Plan. The Climate Action Group will meet to review the progress of this plan and to identify ways to push things even further. \nIt aims to: \n\ngive people a chance to get to meet the FTC Resilience team\, understand what they do and ask questions\, provide suggestions and feedback\nhold FTC to account on their work around the Climate & Ecological Emergency\nput forward ideas and get involved in projects\n\nThe Group will be focusing on transport\, energy\, zero waste\, and green spaces & biodiversity. \nFind out more and sign up for the meeting on the FTC website >>
URL:https://sustainablefrome.org.uk/event/climate-action-group-first-meeting/
LOCATION:Online
END:VEVENT
BEGIN:VEVENT
DTSTART;TZID=UTC:20220106T193000
DTEND;TZID=UTC:20220106T210000
DTSTAMP:20260420T053644
CREATED:20220105T165148Z
LAST-MODIFIED:20220130T164536Z
UID:2222-1641497400-1641502800@sustainablefrome.org.uk
SUMMARY:Sustainable Frome January meeting: Planning for 2022
DESCRIPTION:This will be another ‘Room n Zoom’ meeting. Either join in person at the Good Heart Cafw or online using the Zoom link in the recent newsletter.
URL:https://sustainablefrome.org.uk/event/sustainable-frome-january-meeting-planning-for-2022/
LOCATION:The Good Heart\, 7 Palmer Street\, Frome\, BA11 1DS\, United Kingdom
ORGANIZER;CN="Sustainable Frome":MAILTO:info@sustainablefrome.org.uk
END:VEVENT
END:VCALENDAR